BEGIN:VCALENDAR
VERSION:2.0
PRODID:-//Spółdzielnia Mieszkaniowa Osiedle Młodych - ECPv5.16.4//NONSGML v1.0//EN
CALSCALE:GREGORIAN
METHOD:PUBLISH
X-WR-CALNAME:Spółdzielnia Mieszkaniowa Osiedle Młodych
X-ORIGINAL-URL:https://osiedlemlodych.pl
X-WR-CALDESC:Wydarzenia dla Spółdzielnia Mieszkaniowa Osiedle Młodych
BEGIN:VTIMEZONE
TZID:Europe/Warsaw
BEGIN:DAYLIGHT
TZOFFSETFROM:+0100
TZOFFSETTO:+0200
TZNAME:CEST
DTSTART:20230326T010000
END:DAYLIGHT
BEGIN:STANDARD
TZOFFSETFROM:+0200
TZOFFSETTO:+0100
TZNAME:CET
DTSTART:20231029T010000
END:STANDARD
END:VTIMEZONE
BEGIN:VEVENT
DTSTART;TZID=Europe/Warsaw:20230331T160000
DTEND;TZID=Europe/Warsaw:20230331T170000
DTSTAMP:20260423T060638
CREATED:20230227T114319Z
LAST-MODIFIED:20230303T144502Z
UID:39085-1680278400-1680282000@osiedlemlodych.pl
SUMMARY:15-lecie Chóru Bel Canto
DESCRIPTION:Koncert z okazji 15. rocznicy powstania chóru Bel Canto pod kierownictwem Floriana Piechowiaka. \nBezpłatne wejściówki do nabycia w biurze DK „Jagiellonka” od poniedziałku do piątku w godzinach 14.00 – 19.00.
URL:https://osiedlemlodych.pl/wydarzenia/15-lecie-choru-bel-canto/
LOCATION:Dom Kultury „Jagiellonka”
CATEGORIES:Jagiellonka
ATTACH;FMTTYPE=image/png:https://osiedlemlodych.pl/wp-content/uploads/2023/02/wycieczka-5.png
END:VEVENT
END:VCALENDAR