BEGIN:VCALENDAR
VERSION:2.0
PRODID:-//Spółdzielnia Mieszkaniowa Osiedle Młodych - ECPv5.16.4//NONSGML v1.0//EN
CALSCALE:GREGORIAN
METHOD:PUBLISH
X-WR-CALNAME:Spółdzielnia Mieszkaniowa Osiedle Młodych
X-ORIGINAL-URL:https://osiedlemlodych.pl
X-WR-CALDESC:Wydarzenia dla Spółdzielnia Mieszkaniowa Osiedle Młodych
BEGIN:VTIMEZONE
TZID:Europe/Warsaw
BEGIN:DAYLIGHT
TZOFFSETFROM:+0100
TZOFFSETTO:+0200
TZNAME:CEST
DTSTART:20230326T010000
END:DAYLIGHT
BEGIN:STANDARD
TZOFFSETFROM:+0200
TZOFFSETTO:+0100
TZNAME:CET
DTSTART:20231029T010000
END:STANDARD
END:VTIMEZONE
BEGIN:VEVENT
DTSTART;TZID=Europe/Warsaw:20231025T183000
DTEND;TZID=Europe/Warsaw:20231025T193000
DTSTAMP:20260421T223408
CREATED:20231016T082549Z
LAST-MODIFIED:20231022T140036Z
UID:43409-1698258600-1698262200@osiedlemlodych.pl
SUMMARY:Ćwiczenia mięśni dna miednicy - ODWOŁANE
DESCRIPTION:Drodzy Państwo\, \n\nZajęcia:\n– Zdrowy kręgosłup 17:30\n– Ćwiczenia mięśni dna miednicy 18:30\nnie odbędą się w dwie najbliższe środy 18 i 25 października.\n\n\n\nSala Klubu Cybinka będzie w tych terminach miejscem spotkań mieszkańców z Kierownictwem Osiedla POMET\, by wspólnie omówić sprawy planowanych remontów\, parkowania i gospodarowania odpadami.\n\n\nSzczegóły:\nhttps://osiedlemlodych.pl/drodzy-mieszkancy-zapraszamy…/\n\n\n\nZapraszamy do udziału w spotkaniach!
URL:https://osiedlemlodych.pl/wydarzenia/18_i_25_pazdziernika_odwolane/
LOCATION:Klub „Cybinka”\, ul. Warszawska 93/95\, Poznań\, Wielkopolska\, 61-031\, Poland
CATEGORIES:Klub Cybinka
ATTACH;FMTTYPE=image/jpeg:https://osiedlemlodych.pl/wp-content/uploads/2023/10/miesni-dna-miednicy-pbo-odwolane-www.jpg
END:VEVENT
END:VCALENDAR