BEGIN:VCALENDAR
VERSION:2.0
PRODID:-//Spółdzielnia Mieszkaniowa Osiedle Młodych - ECPv5.16.4//NONSGML v1.0//EN
CALSCALE:GREGORIAN
METHOD:PUBLISH
X-WR-CALNAME:Spółdzielnia Mieszkaniowa Osiedle Młodych
X-ORIGINAL-URL:https://osiedlemlodych.pl
X-WR-CALDESC:Wydarzenia dla Spółdzielnia Mieszkaniowa Osiedle Młodych
BEGIN:VTIMEZONE
TZID:Europe/Warsaw
BEGIN:DAYLIGHT
TZOFFSETFROM:+0100
TZOFFSETTO:+0200
TZNAME:CEST
DTSTART:20230326T010000
END:DAYLIGHT
BEGIN:STANDARD
TZOFFSETFROM:+0200
TZOFFSETTO:+0100
TZNAME:CET
DTSTART:20231029T010000
END:STANDARD
END:VTIMEZONE
BEGIN:VEVENT
DTSTART;TZID=Europe/Warsaw:20230422T170000
DTEND;TZID=Europe/Warsaw:20230422T200000
DTSTAMP:20260421T121035
CREATED:20230405T161255Z
LAST-MODIFIED:20230405T161255Z
UID:39779-1682182800-1682193600@osiedlemlodych.pl
SUMMARY:XXXIII Amatorski Konkurs Gwary Poznańskiej „Godejcie po naszymu” im. Jacka Hałasika
DESCRIPTION:Stowarzyszenie Ratajskie Centrum Kultury oraz Spółdzielnia Mieszkaniowa „Osiedle Młodych” w Poznaniu – Dom Kultury „Jubilat” organizują w miesiącu kwietniu przedsięwzięcie\, które od wielu lat gromadzi liczną publiczność i wpisało się na listę wydarzeń kulturalnych miasta Poznania.\nW tym roku organizujemy po raz XXXIII Amatorski Konkurs Gwary Poznańskiej „Godejcie po naszymu” im. Jacka Hałasika\, za który organizator otrzymał Certyfikatnr 106 Znak Towarowy Wielkopolska Jakość przyznany przez Unię Wielkopolan. Pragniemy zaznaczyć\, iż Amatorski Konkurs Gwary Poznańskiej \,\,Godejcie po naszymu” cieszy się dużą popularnością w Poznaniu\, jak również w całej Wielkopolsce. Celem imprezy jest popularyzacja gwary poznańskiej\, jej wartości literackiej i artystycznej\, zachowanie tradycji i zachęcenie do posługiwania się gwarą w życiu codziennym.\n\n\n  \n\nBILETY w cenie 30 zł do nabycia w Dom Kultury „Jubilat”\, Dom Kultury „Jędruś” oraz Dom Kultury „Orle Gniazdo”\n\nOrganizatorem wydarzenia jest Ratajskie Centrum Kultury\, partnerami Dom Kultury „Jubilat” oraz Spółdzielnia Mieszkaniowa „Osiedle Młodych” w Poznaniu. Projekt dofinansowano ze środków budżetowych Miasto Poznań.
URL:https://osiedlemlodych.pl/wydarzenia/xxxiii-amatorski-konkurs-gwary-poznanskiej-godejcie-po-naszymu-im-jacka-halasika/
LOCATION:DK „Jędruś”\, os. Armii Krajowej 101\, Poznań
CATEGORIES:Jędruś,Jubilat
ATTACH;FMTTYPE=image/jpeg:https://osiedlemlodych.pl/wp-content/uploads/2016/03/pyry2.jpg
END:VEVENT
END:VCALENDAR