BEGIN:VCALENDAR
VERSION:2.0
PRODID:-//Spółdzielnia Mieszkaniowa Osiedle Młodych - ECPv5.16.4//NONSGML v1.0//EN
CALSCALE:GREGORIAN
METHOD:PUBLISH
X-WR-CALNAME:Spółdzielnia Mieszkaniowa Osiedle Młodych
X-ORIGINAL-URL:https://osiedlemlodych.pl
X-WR-CALDESC:Wydarzenia dla Spółdzielnia Mieszkaniowa Osiedle Młodych
BEGIN:VTIMEZONE
TZID:Europe/Warsaw
BEGIN:DAYLIGHT
TZOFFSETFROM:+0100
TZOFFSETTO:+0200
TZNAME:CEST
DTSTART:20230326T010000
END:DAYLIGHT
BEGIN:STANDARD
TZOFFSETFROM:+0200
TZOFFSETTO:+0100
TZNAME:CET
DTSTART:20231029T010000
END:STANDARD
END:VTIMEZONE
BEGIN:VEVENT
DTSTART;TZID=Europe/Warsaw:20230423T110000
DTEND;TZID=Europe/Warsaw:20230423T120000
DTSTAMP:20260421T133513
CREATED:20230323T103638Z
LAST-MODIFIED:20230323T143622Z
UID:39512-1682247600-1682251200@osiedlemlodych.pl
SUMMARY:ENTLIK-PĘTLIK - WIOSENNY PAMIĘTNIK
DESCRIPTION:Zapraszamy na wiosenną opowieść powstałą na styku teatru lalek i muzyki tradycyjnej. Poznamy Iśkę – dziewczynkę\, która zaprosi nas do swojej historii związanej z czasem nawoływania wiosny. Jak się okaże\, a raczej – jak odsłoni to Iśka – podróż z zimy do wiosny przechodzi na naszych oczach przyroda\, ale też – nasze serce. To ważny temat spektaklu – serce\, a dokładnie serce dziecka\, w którym czasem gości smutek. Co z nim zrobić? Jak go oswoić i odebrać wiadomość\, którą często nam niesie? O tym właśnie opowiemy\, a wspólne przeżycie spektaklu może być świetną sposobnością do przyjrzenia się bliżej tej właśnie emocji\, która – choć nazywana trudną czy negatywną – jest częścią życia każdego z nas.\n\n Idąc w stronę wiosny spotkamy barwne i często nieznane postaci kolędnicze związane z polskimi tradycjami kolędowania wiosennego! Scenariusz został oparty na tradycyjnych oracjach i pieśniach kolędniczych\, więc dzieci mają okazję poznać bliżej te mało znane\, a bardzo ciekawe smaki polskiej kultury tradycyjnej.\n\n Przywitamy wiosnę – tę na zewnątrz i tę w sercu – żywiołowym brzmieniem tradycji i pięknem teatru lalek.\n\nRealizacja: zespół Teatru Mozaika\nKoncepcja: Karolina Ociepka\nScenariusz: Karolina Martin\, Karolina Ociepka\, Dominika Oczepa\nNarracja\, śpiew\, animacja lalki: Karolina Martin\nNarracja\, śpiew\, skrzypce\, cytra: Dominika Oczepa\nNarracja\, śpiew\, polski bęben obręczowy: Karolina Ociepka\nKonsultacje psychologiczne: Karolina Idkowiak\nScenografia: Anna Kaźmierak Miło to widzieć i Piotr Rogaliński Nie-zabawki\nRekwizyty: Karolina Martin i Katarzyna Peplinska\nKostiumy: Berenika Pyza\nFotografie: Marianna Łakomy Mikromomenty\n\n\nBilety: 20 zł (ulgowy) i 30 zł (normalny) \nDzieci do lat 3 – bezpłatnie \n\nBilety dostępne wyłącznie na stronie:\nhttps://www.bilety24.pl/teatr/1343-entli-petlik-wiosny-pamietnik-interaktywny-spektakl-lalkowy-dla-rodzin-87743?id=473624&fbclid=IwAR2OoJ8btYMVF51I_3knRhRzk3FovxH2ZLw5sgCfBLDLGXr7xlO88ODlZ0s\n 
URL:https://osiedlemlodych.pl/wydarzenia/entlik-petlik-wiosenny-pamietnik/
LOCATION:Dom Kultury „Orle Gniazdo”\, os. Lecha 43\, Poznań\, Wielkopolskie\, 61-294\, Polska
CATEGORIES:Orle Gniazdo
ATTACH;FMTTYPE=image/jpeg:https://osiedlemlodych.pl/wp-content/uploads/2023/03/entlik-petlik-mikromomenty-marianna-lakomy2.jpg
END:VEVENT
BEGIN:VEVENT
DTSTART;TZID=Europe/Warsaw:20230423T150000
DTEND;TZID=Europe/Warsaw:20230423T170000
DTSTAMP:20260421T133513
CREATED:20230330T205813Z
LAST-MODIFIED:20230330T205813Z
UID:39642-1682262000-1682269200@osiedlemlodych.pl
SUMMARY:SPORTOWA NIEDZIELA NA OLIMPIE- BIEGOWE WYZWANIE
DESCRIPTION:Serdecznie zapraszamy fanów biegania na Sportową niedziele na Olimpie! Jak co roku wraz z początkiem wiosny zachęcamy najmłodszych do podejmowania aktywności na swieżym powietrzu. Wydarzenie  adresowane jest  do wszystkich chętnych dzieci przedszkolnych oraz klas I- VI SP. \nData: 23.04.2023 (niedziela) \nMiejsce: Spółdzielczy Stadion Sportowy„OLIMP” na os. Rusa \nKategorie wiekowe (dziewczynki i chłopcy); godz. biegu: \n\nDzieci w wieku 3-4 lat; godz. 15.00\nDzieci w wieku 5-6 lat; godz. 15.20\nDzieci klas I-III SP; godz. 15.40\nDzieci klas  IV-VI SP; godz. 16.00. \n\nAby wziąc udział w wydarzeniu niezbędne jest wypełnienie formularza zgłoszeniowego przez rodzica lub opiekuna prawnego do dnia: 13.04.2023 roku. \n Formularz zgłoszeniowy \n  \nProsimy o wstawienie się  zawodników wraz z opiekunami 30 minut przed rozpoczęciem biegu. Do zobaczenia 🙂
URL:https://osiedlemlodych.pl/wydarzenia/sportowa-niedziela-na-olimpie-biegowe-wyzwanie/
LOCATION:Spółdzielczy Stadion Sportowy OLIMP os. Rusa\, Osiedle Rusa\, Poznań\, wielkopolskie\, 61-245\, Polska
CATEGORIES:Placówki Kulturalne "Na Rusa"
ATTACH;FMTTYPE=image/jpeg:https://osiedlemlodych.pl/wp-content/uploads/2023/03/338689787-731890881961776-671073927553718302-n.jpg
END:VEVENT
END:VCALENDAR