BEGIN:VCALENDAR
VERSION:2.0
PRODID:-//Spółdzielnia Mieszkaniowa Osiedle Młodych - ECPv5.16.4//NONSGML v1.0//EN
CALSCALE:GREGORIAN
METHOD:PUBLISH
X-WR-CALNAME:Spółdzielnia Mieszkaniowa Osiedle Młodych
X-ORIGINAL-URL:https://osiedlemlodych.pl
X-WR-CALDESC:Wydarzenia dla Spółdzielnia Mieszkaniowa Osiedle Młodych
BEGIN:VTIMEZONE
TZID:Europe/Warsaw
BEGIN:DAYLIGHT
TZOFFSETFROM:+0100
TZOFFSETTO:+0200
TZNAME:CEST
DTSTART:20230326T010000
END:DAYLIGHT
BEGIN:STANDARD
TZOFFSETFROM:+0200
TZOFFSETTO:+0100
TZNAME:CET
DTSTART:20231029T010000
END:STANDARD
END:VTIMEZONE
BEGIN:VEVENT
DTSTART;TZID=Europe/Warsaw:20230428T170000
DTEND;TZID=Europe/Warsaw:20230428T170000
DTSTAMP:20260421T205305
CREATED:20230308T154610Z
LAST-MODIFIED:20230404T133158Z
UID:39303-1682701200-1682701200@osiedlemlodych.pl
SUMMARY:Przetrwanie na POLANie - survival
DESCRIPTION:Namiot\, a może szałas? \nPrzynieść go z domu czy może poszukać jakiegoś schronu po drodze? \nGdzie i jak się przespać? By było bezpiecznie\, choć trochę wygodnie i w zgodzie z naturą. Survivalowa przygoda czeka\, bo może nie warto spać nocą w lesie\, a… \nKoszt 40 zł. Zapisy w DK „Polan STO”\, tel. 61 8797 151 w godz. 16:00 – 20:00 od pn. do pt. \n 
URL:https://osiedlemlodych.pl/wydarzenia/przetrwanie-na-polanie-survival-5/
LOCATION:DK „Polan Sto”
CATEGORIES:Polan Sto
ATTACH;FMTTYPE=image/png:https://osiedlemlodych.pl/wp-content/uploads/2023/03/namiot.png
END:VEVENT
END:VCALENDAR