BEGIN:VCALENDAR
VERSION:2.0
PRODID:-//Spółdzielnia Mieszkaniowa Osiedle Młodych - ECPv5.16.4//NONSGML v1.0//EN
CALSCALE:GREGORIAN
METHOD:PUBLISH
X-WR-CALNAME:Spółdzielnia Mieszkaniowa Osiedle Młodych
X-ORIGINAL-URL:https://osiedlemlodych.pl
X-WR-CALDESC:Wydarzenia dla Spółdzielnia Mieszkaniowa Osiedle Młodych
BEGIN:VTIMEZONE
TZID:Europe/Warsaw
BEGIN:DAYLIGHT
TZOFFSETFROM:+0100
TZOFFSETTO:+0200
TZNAME:CEST
DTSTART:20230326T010000
END:DAYLIGHT
BEGIN:STANDARD
TZOFFSETFROM:+0200
TZOFFSETTO:+0100
TZNAME:CET
DTSTART:20231029T010000
END:STANDARD
END:VTIMEZONE
BEGIN:VEVENT
DTSTART;TZID=Europe/Warsaw:20230509T113000
DTEND;TZID=Europe/Warsaw:20230509T123000
DTSTAMP:20260422T153807
CREATED:20230404T195222Z
LAST-MODIFIED:20230425T175653Z
UID:39732-1683631800-1683635400@osiedlemlodych.pl
SUMMARY:Warsztaty z Dietetykiem dla Seniorów
DESCRIPTION:Co by tu zjeść\, żeby wspomóc swoje zdrowie\, a do tego czerpać z posiłku przyjemność❓\nI czy to w ogóle możliwe❓\nOtóż tak❗\n🥑🥚🥜🥕🥗🥝🍽🍳🍴 \nNa Skarpie trwa cykl warsztatów dla Seniorów „Zdrowe jedzenie jest przyjemne”. \n📢 Drogi nasz ratajski Seniorze\, możesz jeszcze dołączyć! \nKonkrety: \n✔ Terminy: \n04.04. \n11.04. \n18.04. \n25.04. \n09.05. \n✔ godzina 11:30 \n✔ prowadzenie: mgr Paulina Konkiewicz \n✔ zapisy: kontakt@paulinakonkiewicz.pl lub bezpośrednio przed spotkaniem \n  \nWarsztaty realizowane są w ramach programu „Mój Sportowy Azyl” finansowanego przez Poznański Budżet Obywatelski. \n  \nZapraszamy! \n 
URL:https://osiedlemlodych.pl/wydarzenia/warsztaty-z-dietetykiem-dla-seniorow/
LOCATION:Dom Kultury „Na Skarpie”\, os. Piastowskie 104\, Poznań\, województwo wielkopolskie\, 61-164\, Polska
CATEGORIES:Na Skarpie
ATTACH;FMTTYPE=image/jpeg:https://osiedlemlodych.pl/wp-content/uploads/2023/04/dietetyk-na-www.jpg
ORGANIZER;CN="Dom%20Kultury%20%22Na%20Skarpie%22":MAILTO:naskarpie@osiedlemlodych.pl
END:VEVENT
END:VCALENDAR