BEGIN:VCALENDAR
VERSION:2.0
PRODID:-//Spółdzielnia Mieszkaniowa Osiedle Młodych - ECPv5.16.4//NONSGML v1.0//EN
CALSCALE:GREGORIAN
METHOD:PUBLISH
X-WR-CALNAME:Spółdzielnia Mieszkaniowa Osiedle Młodych
X-ORIGINAL-URL:https://osiedlemlodych.pl
X-WR-CALDESC:Wydarzenia dla Spółdzielnia Mieszkaniowa Osiedle Młodych
BEGIN:VTIMEZONE
TZID:Europe/Warsaw
BEGIN:DAYLIGHT
TZOFFSETFROM:+0100
TZOFFSETTO:+0200
TZNAME:CEST
DTSTART:20230326T010000
END:DAYLIGHT
BEGIN:STANDARD
TZOFFSETFROM:+0200
TZOFFSETTO:+0100
TZNAME:CET
DTSTART:20231029T010000
END:STANDARD
END:VTIMEZONE
BEGIN:VEVENT
DTSTART;TZID=Europe/Warsaw:20230511T121500
DTEND;TZID=Europe/Warsaw:20230601T131500
DTSTAMP:20260423T010352
CREATED:20230504T165907Z
LAST-MODIFIED:20230505T132805Z
UID:40177-1683807300-1685625300@osiedlemlodych.pl
SUMMARY:Zaproszenie na warsztaty taneczno-ruchowe - TERAPIA TAŃCEM dla SENIOREK I SENIORÓW
DESCRIPTION:Zajęcia dedykowane są seniorom i finansowane przez Miasto Poznań w ramach zadania publicznego pn. „Metamorfozy”. Zadanie realizuje Fundacja Barak Kultury. Cztery spotkania – 11\, 18 i 25 maja oraz 1 czerwca br. o godz. 12:15 odbędą się w ramach partnerstwa w DK „Orle Gniazdo” na os. Lecha 43 w Poznaniu. Celem tego zadania jest aktywizacja seniorów oraz spowodowanie przemiany myślenia o zaangażowaniu w ich wieku w różne dziedziny. Ponadto „Metamorfozy” umożliwią seniorom odbudowanie poczucia wyjątkowości i bycia docenionym. A co najważniejsze będą czasem po prostu zabawy i rekreacji\, bodźcem do śmiechu i uśmiechu\, wspólnych działań\, które wyzwolą kreatywność\, energię i radość. Zajęcia\, które poprowadzi Olga Kuźmińska składać się będą z różnorodnych form ruchowych takich jak: taniec integracyjny\, taniec towarzyski\, aerobik taneczny oraz ćwiczenia gimnastyczne na poszczególne partie mięśniowe. Wszystkie te „poruszania” będą wykonywane przy różnorodnej muzyce\, inspirującej i zachęcającej do ruchu. Celem zajęć jest rozpowszechnienie TERAPII TAŃCEM jako leku przywracającego młodość i podtrzymującego sprawność fizyczną w starszym wieku. Taka terapia może być aktywnym sposobem spędzenia czasu w jesieni życia Seniora. \nOlga Kuźmińska jest prekursorką aerobiku w Polsce. Prowadzi zajęcia taneczne w klubie „Raj seniora”. W czasie swojej kariery zawodowej zdobyła wiele tytułów: instruktora tańca kategorii pierwszej\, trenera klasy pierwszej w gimnastyce artystycznej\, sędziego związkowego w gimnastyce artystycznej\, instruktorki łyżwiarstwa figurowego. Obroniła pracę doktorską i otrzymała tytuł doktora nauk wychowania fizycznego na podstawie pracy pt.: „Dynamika rozwoju fizycznego dziewcząt uprawiających gimnastykę artystyczną na wczesnym etapie nauczania”. \n  \nZdj. Kazimierz Seredyński
URL:https://osiedlemlodych.pl/wydarzenia/zaproszenie-na-warsztaty-taneczno-ruchowe-terapia-tancem-dla-seniorek-i-seniorow/
LOCATION:Dom Kultury „Orle Gniazdo”\, os. Lecha 43\, os. Lecha 43\, Poznań
CATEGORIES:DOMY KULTURY,Orle Gniazdo
ATTACH;FMTTYPE=image/jpeg:https://osiedlemlodych.pl/wp-content/uploads/2023/05/279567892-3333502146889194-5336619870985268555-n.jpg
ORGANIZER;CN="Fundacja%20Barak%20Kultury":MAILTO:barakkultury@barakkultury.pl
END:VEVENT
BEGIN:VEVENT
DTSTART;TZID=Europe/Warsaw:20230515T133000
DTEND;TZID=Europe/Warsaw:20230515T153000
DTSTAMP:20260423T010352
CREATED:20230227T154834Z
LAST-MODIFIED:20230419T095311Z
UID:39097-1684157400-1684164600@osiedlemlodych.pl
SUMMARY:Z kulturą po świecie. Przystanek: MEKSYK. Cz. II
DESCRIPTION:Pragniemy umożliwić seniorom odkrywanie piękna naszego świata poprzez spotkania z dziennikarzami i podróżnikami. To właśnie oni przybliżą nam kulturę wybranych krajów i odkryją przed nami wyjątkowość doskonale znanych im już zakątków naszego globu. \nTym razem ponownie wybierzemy się do niezwykłego Meksyku.\n \nSpotkanie poprowadzi Radosław Nawrot. \n  \nWydarzenie odbędzie się w ramach cyklu „Ratajski Przystanek Seniora”. \nOrganizatorami wydarzenia są Ratajskie Centrum Kultury oraz Dom Kultury „Orle Gniazdo”. Sfinansowano z środków budżetowych Miasta Poznania #poznanwspiera \n  \nUdział w wydarzeniu jest bezpłatny. \nRezerwacji miejsc dokonać można telefonicznie (tel. 61 877 78 42) lub mailowo (dkorlegniazdo@gmail.com).
URL:https://osiedlemlodych.pl/wydarzenia/z-kultura-po-swiecie-przystanek-meksyk/
LOCATION:Dom Kultury „Orle Gniazdo”\, os. Lecha 43\, Poznań\, Wielkopolskie\, 61-294\, Polska
CATEGORIES:Orle Gniazdo
ATTACH;FMTTYPE=image/jpeg:https://osiedlemlodych.pl/wp-content/uploads/2023/02/istockphoto-1178130068-612x612-1.jpg
END:VEVENT
BEGIN:VEVENT
DTSTART;TZID=Europe/Warsaw:20230515T173000
DTEND;TZID=Europe/Warsaw:20230515T190000
DTSTAMP:20260423T010352
CREATED:20230424T153455Z
LAST-MODIFIED:20230424T153455Z
UID:40052-1684171800-1684177200@osiedlemlodych.pl
SUMMARY:Warsztaty artystyczne MALOWANIE NA SZKLE
DESCRIPTION:Zapraszamy na międzypokoleniowe\, rodzinne warsztaty artystyczne w Klubie „Cybinka” 🙂
URL:https://osiedlemlodych.pl/wydarzenia/warsztaty-artystyczne-malowanie-na-szkle/
LOCATION:Klub „Cybinka”\, ul. Warszawska 93/95\, Poznań\, Wielkopolska\, 61-031\, Poland
CATEGORIES:Klub Cybinka
ATTACH;FMTTYPE=image/jpeg:https://osiedlemlodych.pl/wp-content/uploads/2023/04/mistrz-dekorowania-szklanki-do-herbaty-akrylem-min.jpg
END:VEVENT
END:VCALENDAR