BEGIN:VCALENDAR
VERSION:2.0
PRODID:-//Spółdzielnia Mieszkaniowa Osiedle Młodych - ECPv5.16.4//NONSGML v1.0//EN
CALSCALE:GREGORIAN
METHOD:PUBLISH
X-WR-CALNAME:Spółdzielnia Mieszkaniowa Osiedle Młodych
X-ORIGINAL-URL:https://osiedlemlodych.pl
X-WR-CALDESC:Wydarzenia dla Spółdzielnia Mieszkaniowa Osiedle Młodych
BEGIN:VTIMEZONE
TZID:Europe/Warsaw
BEGIN:DAYLIGHT
TZOFFSETFROM:+0100
TZOFFSETTO:+0200
TZNAME:CEST
DTSTART:20230326T010000
END:DAYLIGHT
BEGIN:STANDARD
TZOFFSETFROM:+0200
TZOFFSETTO:+0100
TZNAME:CET
DTSTART:20231029T010000
END:STANDARD
END:VTIMEZONE
BEGIN:VEVENT
DTSTART;TZID=Europe/Warsaw:20230605T160000
DTEND;TZID=Europe/Warsaw:20230605T180000
DTSTAMP:20260424T095408
CREATED:20230324T213730Z
LAST-MODIFIED:20230602T203917Z
UID:39568-1685980800-1685988000@osiedlemlodych.pl
SUMMARY:Szachy dla dzieci i młodzieży - ZMIANA TERMINU
DESCRIPTION:𝗦𝘇𝗮𝗰𝗵𝘆 Na Skarpie zupełnie za darmochę! \n\nMój Sportowy Azyl i Skarpa zapraszają wszystkie nasze okoliczne dzieciaczki na naukę gry w szachy od podstaw w wybrane poniedziałki do końca tego roku szkolnego.\n\nProjekt finansowany jest ze środków budżetowych Urzędu Miasta Poznania w ramach Poznańskiego Budżetu Obywatelskiego 2023\n\nSzachy to koncentracja\, inteligentna rywalizacja\, strategiczne myślenie i trening obu półkul mózgu! \n\nnówka sztuka nieśmigane zestawy szachowe czekają już na Was! \n\n\n\nK̲O̲N̲K̲R̲E̲T̲Y̲:\n\n\n𝟭𝟲:𝟬𝟬 dzieci w wieku od 4 do 9 lat\n𝟭𝟳:𝟬𝟬 dzieci i młodzież w wieku od 10 do 18 lat\n\nterminy w tym roku szkolnym:\n24.04.\n08.05.\n22.05.\n05.06.\n19.06.\n26.06.\n\nzapisy  hpodymska@gmail.com\n\n\nBardzo polecamy!\n\nDo zobaczenia Na Skarpie! \n\n\n\nP.S.  Napisaliśmy pięć zupełnie nowych przysłów  \n\nJak Wam się podobają? \n\n\n 𝗦𝗭𝗔𝗖𝗛𝗬 są dobre dla dziecięcej czachy \n Kto w 𝗦𝗭𝗔𝗖𝗛𝗬 grywa\, temu lat ubywa. \n 𝗦𝗭𝗔𝗖𝗛-mat sprawa łatwa\, gdy się myśleć uczy dziatwa. \n Do 𝗦𝗭𝗔𝗖𝗛𝗢́𝗪 zapraszamy\, o dzieci głowy zadbamy. \n Na Skarpie nad Wartą w 𝗦𝗭𝗔𝗖𝗛𝗬 pograć warto.
URL:https://osiedlemlodych.pl/wydarzenia/szachy-dla-dzieci/
LOCATION:Dom Kultury „Na Skarpie”\, os. Piastowskie 104\, Poznań\, województwo wielkopolskie\, 61-164\, Polska
CATEGORIES:Na Skarpie
ATTACH;FMTTYPE=image/jpeg:https://osiedlemlodych.pl/wp-content/uploads/2023/03/szachy-zmiana-terminu-1.jpg
ORGANIZER;CN="Dom%20Kultury%20%22Na%20Skarpie%22":MAILTO:naskarpie@osiedlemlodych.pl
END:VEVENT
END:VCALENDAR