BEGIN:VCALENDAR
VERSION:2.0
PRODID:-//Spółdzielnia Mieszkaniowa Osiedle Młodych - ECPv5.16.4//NONSGML v1.0//EN
CALSCALE:GREGORIAN
METHOD:PUBLISH
X-WR-CALNAME:Spółdzielnia Mieszkaniowa Osiedle Młodych
X-ORIGINAL-URL:https://osiedlemlodych.pl
X-WR-CALDESC:Wydarzenia dla Spółdzielnia Mieszkaniowa Osiedle Młodych
BEGIN:VTIMEZONE
TZID:Europe/Warsaw
BEGIN:DAYLIGHT
TZOFFSETFROM:+0100
TZOFFSETTO:+0200
TZNAME:CEST
DTSTART:20230326T010000
END:DAYLIGHT
BEGIN:STANDARD
TZOFFSETFROM:+0200
TZOFFSETTO:+0100
TZNAME:CET
DTSTART:20231029T010000
END:STANDARD
END:VTIMEZONE
BEGIN:VEVENT
DTSTART;TZID=Europe/Warsaw:20230614T080000
DTEND;TZID=Europe/Warsaw:20230628T200000
DTSTAMP:20260425T164402
CREATED:20230525T115829Z
LAST-MODIFIED:20230820T164115Z
UID:40628-1686729600-1687982400@osiedlemlodych.pl
SUMMARY:AKCJA LATO 2023! - ZAPISY
DESCRIPTION:Ostatnie wolne miejsca na tegoroczną Akcję Lato! 🏖🌞\n  \nInformacje na temat aktualnej dostępności wolnych miejsc na poszczególne turnusy w DK „Na Skarpie” znajdą Państwo:\n➡ pod numerem telefonu 618770551 w godzinach 07:30 – 09:00 i 14:30 – 16:00.\n➡ mailowo naskarpie@osiedlemlodych.pl\n➡ osobiście w biurze DK „Na Skarpie” os. Piastowskie 104\, Poznań\, od poniedziałku do piątku w godzinach 07:30 – 09:00 i 14:30 – 16:00.\n➡ Messenger\n➡ WhatsApp\n\nPoniżej szczegółowe informacje na temat półkolonii organizowanych przez Dom Kultury „Na Skarpie”:\n1. Dom Kultury „Na Skarpie” w ramach Akcji Lato 2023 organizuje turnusy półkolonijne w następujących terminach: \n\n\n\n\n❗ ⬇ ❗\n\nTURNUS\nTERMIN\nKOSZT\nczłonkowie\nSMOM\nKOSZT\npozostali\n\n\n\n\n–\nI\n03.07. – 07.07.\n410 zł\n470 zł\n\n\n–\nII\n10.07. – 14.07.\n410 zł\n470 zł\n\n\n–\nIII\n24.07. – 26.07. BIWAK*\n490 zł\n520 zł\n\n\n–\nIV\n31.07. – 04.08.\n410 zł\n470 zł\n\n\n–\nV\n07.08. – 11.08.\n410 zł\n470 zł\n\n\n–\nVI\n16.08 – 18.08.\n246 zł\n282 zł\n\n\n–\nVII\n21.08. – 25.08.\n410 zł\n470 zł\n\n\n\nDla rodzeństw 10% zniżki! \n2. Jedno dziecko można zapisać maksymalnie na dwa turnusy. W przypadku dostępnych miejsc Kierownik Domu Kultury może wyrazić zgodę na zapisanie dziecka na więcej niż 2 turnusy. \n3. Jeden zgłaszający zapisać może jedno dziecko\, lub rodzeństwo. \n4. Każdy turnus liczyć będzie maksymalnie dwadzieścioro dzieci w wieku od 6 do 12 lat. \n5. Zapisy przyjmowane są osobiście w biurze Domu Kultury „Na Skarpie lub online \nTrwać będą do wyczerpania dostępnych miejsc. \n6. Po zgłoszeniu online zgłaszający otrzyma jedynie automatyczne potwierdzenie wypełnienia formularza\, jednak wiążąca będzie dopiero informacja mailowa od pracownika Domu Kultury „Na Skarpie” o przyjęciu dziecka na półkolonie. Prosimy koniecznie sprawdzać również folder SPAM. \n7. W ciągu 3 dni od zgłoszenia dziecka zgłaszający jest zobowiązany dostarczyć wszystkie wymagane dokumenty\, oraz opłacić pełen koszt wybranego turnusu. Możliwe opcje płatności: przelew\, karta\, gotówka. \nW przypadku przelewu wpłaty należy dokonać na numer konta SM „Osiedle Młodych”:\n47 1020 4027 0000 1502 0035 4068 \n! Tytuł przelewu: DK NA SKARPIE\, imię nazwisko dziecka\, półkolonie\, turnus \n! Potwierdzenie przelewu należy przesłać na naskarpie@osiedlemlodych.pl  \n8. Dzieci będą każdego dnia objęte opieką wychowawców od 07:30 do 16:00. \n9. Prosimy by dzieci: \na. były przyprowadzane między 07:30 a 09:00\nb. były odbierane od godziny 15:00\, nie później niż do godziny 16:00\nc. przynosiły z domów drugie śniadanie i ewentualne przekąski\, owoce\, napoje do konsumpcji w ciągu dnia itp.\nd. przynosiły bidony\, które na miejscu będą mogły napełnić wodą pitną\ne. były ubierane stosownie do pogody\, zwłaszcza w środy\, czyli dni „wycieczkowe” (obowiązkowo nakrycie głowy)\nf. w miarę możliwości wszystkie swoje rzeczy miały podpisane imieniem i nazwiskiem \n10. Podczas półkolonii dzieci będą miały w pełni zagospodarowany czas\, zatem spędzą go bez używania urządzeń elektronicznych.\n11. Nie ma konieczności wyposażania dzieci w bilety na przejazdy komunikacją miejską. Organizator zapewnia pokrycie kosztów przejazdu.\n12. Podpowiadamy\, by na wyjazdowe wycieczki dzieci nie zabierały pieniędzy\, zwłaszcza dużych kwot. Lepiej jest zaopatrzyć je na podróż w przekąski/napoje\, by uniknąć niepokoju po zagubieniu pieniędzy.\n13. Organizator zapewnia dzieciom stały dostęp do wody pitnej oraz ciepłej herbaty.\n14. Codziennie około godziny 14:00 dzieci otrzymają ciepły obiad.\n15. W holu placówki znajduje się automat\, w którym dzieci mogą zakupić np gorącą czekoladę.\n16. Numer kontaktowy dla rodziców podczas trwania całych półkolonii\, również w czasie wyjazdowych wycieczek: 618 770 551 \nDOKUMENTY – PÓŁKOLONIE\n1. Regulamin półkolonii organizowanych w Domach Kultury SM „Osiedle Młodych” w Poznaniu\n2. Karta kwalifikacyjna uczestnika wypoczynku\n3. Zgody dodatkowe\n  \n\n*Biwak – Plan jest prosty: ruszamy w poniedziałek 24 lipca\, przez trzy dni przednio się bawimy i korzystamy z uroków leśnych ostępów\, by w środowy wieczór 26 lipca wpaść w ramiona swoich bliskich i z wypiekami na twarzach opowiadać o biwakowych przeżyciach 🥰 A z pewnością będzie o czym\, ponieważ oferta „Gościraju” uległa w tym roku atrakcyjnemu poszerzeniu 🙂 Oprócz standardowych kąpieli w wodach jeziora 💦\, harcerskiego ABC ⚜\, leśnych wędrówek 🥾\, pląsów\, zabaw\, zajęć ruchowych i zręcznościowych 🤸\, brzuszków wypełnionych pysznym\, domowym jedzeniem 🥪 czekają nas zajęcia survivalowe 😎\, wycieczka rowerowa 🚲 i przygoda na SUPach 🏄\nZapisy na biwak rozpoczną się razem z zapisami na Akcję Lato tj. w najbliższy poniedziałek 5 czerwca. Koszt wyjazdu wynosi 490 zł dla członków SM „Osiedle Młodych” oraz 520 zł dla pozostałych osób i obejmuje transport\, zakwaterowanie\, opiekę wykwalifikowanej kadry instruktorskiej\, ubezpieczenie oraz pełne wyżywienie. Dla rodzeństw przewidziana jest zniżka w wysokości 10%. \nDOKUMENTY – BIWAK\n1. Karta kwalifikacyjna uczestnika wypoczynku\n2. Zgody oraz niezbędnik biwakowicza\n3. Regulamin\n\nZapraszamy Wasze dzieci! 👧🧒\nSpotkajmy się na Skarpie! 💟 🏖🌞\n\n  \n\n  \n\nPoniżej relacje z tegorocznych półkolonii w DK „Na Skarpie” w ramach Akcji Zima 😊 \n 
URL:https://osiedlemlodych.pl/wydarzenia/akcjalato2023/
LOCATION:Dom Kultury „Na Skarpie”\, os. Piastowskie 104\, Poznań\, województwo wielkopolskie\, 61-164\, Polska
CATEGORIES:Na Skarpie
ATTACH;FMTTYPE=image/jpeg:https://osiedlemlodych.pl/wp-content/uploads/2023/05/akcja-lato-2023-www-e1685701496574.jpg
ORGANIZER;CN="Dom%20Kultury%20%22Na%20Skarpie%22":MAILTO:naskarpie@osiedlemlodych.pl
END:VEVENT
BEGIN:VEVENT
DTSTART;TZID=Europe/Warsaw:20230614T100000
DTEND;TZID=Europe/Warsaw:20230706T120000
DTSTAMP:20260425T164402
CREATED:20230612T090216Z
LAST-MODIFIED:20230612T121442Z
UID:41488-1686736800-1688644800@osiedlemlodych.pl
SUMMARY:SENIOR\, SENIORKA I PIES 🐾
DESCRIPTION:❓ Jak sprawić\, żeby nawet krótki spacer był satysfakcjonujący dla psa? \n❓ Czy psi senior potrzebuje ruchu? \n❓ Jak zadbać o swoje i pieskie bezpieczeństwo podczas spacerów? \n  \nNa te i wiele innych pytań odpowiedzą Warsztaty: Senior\, Seniorka i pies\, które Na Skarpie organizuje Fundacja Ochrony Praw Zwierząt Kejtersi. \nInformacje i zgłoszenia: 601 552 787 \n  \nPolecamy\, zapraszamy! 🐾 \n  \n \n  \n 
URL:https://osiedlemlodych.pl/wydarzenia/kejtersi/
LOCATION:Dom Kultury „Na Skarpie”\, os. Piastowskie 104\, Poznań\, województwo wielkopolskie\, 61-164\, Polska
CATEGORIES:Na Skarpie
ATTACH;FMTTYPE=image/jpeg:https://osiedlemlodych.pl/wp-content/uploads/2023/06/kejtersi-2023.jpg
ORGANIZER;CN="Dom%20Kultury%20%22Na%20Skarpie%22":MAILTO:naskarpie@osiedlemlodych.pl
END:VEVENT
BEGIN:VEVENT
DTSTART;TZID=Europe/Warsaw:20230626T160000
DTEND;TZID=Europe/Warsaw:20230626T180000
DTSTAMP:20260425T164402
CREATED:20230531T101847Z
LAST-MODIFIED:20230531T101847Z
UID:40859-1687795200-1687802400@osiedlemlodych.pl
SUMMARY:Szachy dla dzieci i młodzieży
DESCRIPTION:𝗦𝘇𝗮𝗰𝗵𝘆 Na Skarpie zupełnie za darmochę! \n\nMój Sportowy Azyl i Skarpa zapraszają wszystkie nasze okoliczne dzieciaczki na naukę gry w szachy od podstaw w wybrane poniedziałki do końca tego roku szkolnego.\n\nProjekt finansowany jest ze środków budżetowych Urzędu Miasta Poznania w ramach Poznańskiego Budżetu Obywatelskiego 2023\n\nSzachy to koncentracja\, inteligentna rywalizacja\, strategiczne myślenie i trening obu półkul mózgu! \n\nnówka sztuka nieśmigane zestawy szachowe czekają już na Was! \n\n\n\nK̲O̲N̲K̲R̲E̲T̲Y̲:\n\n\n𝟭𝟲:𝟬𝟬 dzieci w wieku od 4 do 9 lat\n𝟭𝟳:𝟬𝟬 dzieci i młodzież w wieku od 10 do 18 lat\n\nterminy w tym roku szkolnym:\n24.04.\n08.05.\n22.05.\n19.06.\n26.06.\n\nzapisy  hpodymska@gmail.com\n\n\nBardzo polecamy!\n\nDo zobaczenia Na Skarpie! \n\n\n\nP.S.  Napisaliśmy pięć zupełnie nowych przysłów  \n\nJak Wam się podobają? \n\n\n 𝗦𝗭𝗔𝗖𝗛𝗬 są dobre dla dziecięcej czachy \n Kto w 𝗦𝗭𝗔𝗖𝗛𝗬 grywa\, temu lat ubywa. \n 𝗦𝗭𝗔𝗖𝗛-mat sprawa łatwa\, gdy się myśleć uczy dziatwa. \n Do 𝗦𝗭𝗔𝗖𝗛𝗢́𝗪 zapraszamy\, o dzieci głowy zadbamy. \n Na Skarpie nad Wartą w 𝗦𝗭𝗔𝗖𝗛𝗬 pograć warto.
URL:https://osiedlemlodych.pl/wydarzenia/szachy-dla-dzieci-i-mlodziezy-2/
LOCATION:Dom Kultury „Na Skarpie”\, os. Piastowskie 104\, Poznań\, województwo wielkopolskie\, 61-164\, Polska
CATEGORIES:Na Skarpie
ATTACH;FMTTYPE=image/jpeg:https://osiedlemlodych.pl/wp-content/uploads/2023/03/szachy-kafelek-na-www.jpg
ORGANIZER;CN="Dom%20Kultury%20%22Na%20Skarpie%22":MAILTO:naskarpie@osiedlemlodych.pl
END:VEVENT
END:VCALENDAR