BEGIN:VCALENDAR
VERSION:2.0
PRODID:-//Spółdzielnia Mieszkaniowa Osiedle Młodych - ECPv5.16.4//NONSGML v1.0//EN
CALSCALE:GREGORIAN
METHOD:PUBLISH
X-WR-CALNAME:Spółdzielnia Mieszkaniowa Osiedle Młodych
X-ORIGINAL-URL:https://osiedlemlodych.pl
X-WR-CALDESC:Wydarzenia dla Spółdzielnia Mieszkaniowa Osiedle Młodych
BEGIN:VTIMEZONE
TZID:Europe/Warsaw
BEGIN:DAYLIGHT
TZOFFSETFROM:+0100
TZOFFSETTO:+0200
TZNAME:CEST
DTSTART:20220327T010000
END:DAYLIGHT
BEGIN:STANDARD
TZOFFSETFROM:+0200
TZOFFSETTO:+0100
TZNAME:CET
DTSTART:20221030T010000
END:STANDARD
END:VTIMEZONE
BEGIN:VEVENT
DTSTART;TZID=Europe/Warsaw:20221216T093000
DTEND;TZID=Europe/Warsaw:20221216T120000
DTSTAMP:20260422T071358
CREATED:20221206T083441Z
LAST-MODIFIED:20221206T083441Z
UID:37728-1671183000-1671192000@osiedlemlodych.pl
SUMMARY:24 GRUDNIOWY PRZEGLĄD JASEŁEK
DESCRIPTION:Serdecznie zapraszamy na  przedstawienia ukazujące sceny z narodzin Jezusa Chrystusa odegrane przez dzieci z pobliskich przedszkoli. Najmłodsi artyści wcielając się w rolę Maryi\, Józefa\, pasterzy\, aniołów i postaci z bajek wprowadzą nas w atmosferę Świąt Bożego Narodzenia. \nZachęcamy do wspólnego kolędowania i oglądania naszych najmłodszych artystów! \n16 grudnia – Dom Kultury „Orle Gniazdo” – godz. 9.30-12.00.
URL:https://osiedlemlodych.pl/wydarzenia/24-grudniowy-przeglad-jaselek/
LOCATION:Dom Kultury „Orle Gniazdo”\, os. Lecha 43\, os. Lecha 43\, Poznań
CATEGORIES:Placówki Kulturalne "Na Rusa"
ATTACH;FMTTYPE=image/jpeg:https://osiedlemlodych.pl/wp-content/uploads/2018/12/jaselka1.jpg
END:VEVENT
END:VCALENDAR