BEGIN:VCALENDAR
VERSION:2.0
PRODID:-//Spółdzielnia Mieszkaniowa Osiedle Młodych - ECPv5.16.4//NONSGML v1.0//EN
CALSCALE:GREGORIAN
METHOD:PUBLISH
X-WR-CALNAME:Spółdzielnia Mieszkaniowa Osiedle Młodych
X-ORIGINAL-URL:https://osiedlemlodych.pl
X-WR-CALDESC:Wydarzenia dla Spółdzielnia Mieszkaniowa Osiedle Młodych
BEGIN:VTIMEZONE
TZID:Europe/Warsaw
BEGIN:DAYLIGHT
TZOFFSETFROM:+0100
TZOFFSETTO:+0200
TZNAME:CEST
DTSTART:20230326T010000
END:DAYLIGHT
BEGIN:STANDARD
TZOFFSETFROM:+0200
TZOFFSETTO:+0100
TZNAME:CET
DTSTART:20231029T010000
END:STANDARD
END:VTIMEZONE
BEGIN:VEVENT
DTSTART;TZID=Europe/Warsaw:20231104T100000
DTEND;TZID=Europe/Warsaw:20231104T140000
DTSTAMP:20260421T044610
CREATED:20231011T165406Z
LAST-MODIFIED:20231031T095412Z
UID:43245-1699092000-1699106400@osiedlemlodych.pl
SUMMARY:24. Turniej Tenisa Stołowego z okazji Święta Niepodległości
DESCRIPTION:Z przyjemnością zapraszamy do wzięcia udziału w 24. Turnieju Tenisa Stołowego z okazji Święta Niepodległości. Spędźmy czas podczas zdrowej sportowej rywalizacji. Serwujemy wam zaproszenie\, Wy odbijcie piłeczkę! \nW sobotę\, 4.11.2023 od godz. 10:00 odbędą się rozgrywki w następujących kategoriach:\n– mężczyźni 19–40 lat\n– mężczyźni 41-55 lat\n– mężczyźni 56 lat i powyżej\n– trener senioralny\n– OPEN \nZapisy poprzez formularz lub bezpośrednio przed Turniejem.\nWpisowe: 20 zł\nProsimy o wypełnienie oświadczenia znajdującego się poniżej. \nRegulamin\nZapisy – uczestnicy pełnoletni\nOświadczenie – uczestnicy pełnoletni
URL:https://osiedlemlodych.pl/wydarzenia/24-turniej-tenisa-stolowego-z-okazji-swieta-niepodleglosci-2/
LOCATION:Dom Kultury „Jędruś”\, os. Armii Krajowej 101\, Poznań\, Wielkopolskie\, 61-381\, Polska
CATEGORIES:Jędruś
ATTACH;FMTTYPE=image/jpeg:https://osiedlemlodych.pl/wp-content/uploads/2018/01/tenis2.jpg
END:VEVENT
END:VCALENDAR