BEGIN:VCALENDAR
VERSION:2.0
PRODID:-//Spółdzielnia Mieszkaniowa Osiedle Młodych - ECPv5.16.4//NONSGML v1.0//EN
CALSCALE:GREGORIAN
METHOD:PUBLISH
X-WR-CALNAME:Spółdzielnia Mieszkaniowa Osiedle Młodych
X-ORIGINAL-URL:https://osiedlemlodych.pl
X-WR-CALDESC:Wydarzenia dla Spółdzielnia Mieszkaniowa Osiedle Młodych
BEGIN:VTIMEZONE
TZID:Europe/Warsaw
BEGIN:DAYLIGHT
TZOFFSETFROM:+0100
TZOFFSETTO:+0200
TZNAME:CEST
DTSTART:20230326T010000
END:DAYLIGHT
BEGIN:STANDARD
TZOFFSETFROM:+0200
TZOFFSETTO:+0100
TZNAME:CET
DTSTART:20231029T010000
END:STANDARD
END:VTIMEZONE
BEGIN:VEVENT
DTSTART;TZID=Europe/Warsaw:20231103T143000
DTEND;TZID=Europe/Warsaw:20231103T183000
DTSTAMP:20260421T080118
CREATED:20231011T165110Z
LAST-MODIFIED:20231031T095434Z
UID:43239-1699021800-1699036200@osiedlemlodych.pl
SUMMARY:24. Turniej Tenisa Stołowego z okazji Święta Niepodległości
DESCRIPTION:Z przyjemnością zapraszamy do wzięcia udziału w 24. Turnieju Tenisa Stołowego z okazji Święta Niepodległości. Spędźmy czas podczas zdrowej sportowej rywalizacji. Serwujemy wam zaproszenie\, Wy odbijcie piłeczkę! \nW piątek\, 3.11.2023 od godz. 14:30 odbędą się rozgrywki w następujących kategoriach:\n– dziewczęta i chłopcy z klas 1-2 SP\n– dziewczęta i chłopcy z klas 3 SP\n– dziewczęta i chłopcy z klas 4-5 SP\n– dziewczęta i chłopcy od 6 klasy SP do 18 lat\n– kobiety\nZapisy poprzez formularz lub bezpośrednio przed Turniejem.\nWpisowe: 5 zł dla osób niepełnoletnich oraz 20 zł dla pełnoletnich.\nProsimy o wypełnienie odpowiedniego oświadczenia znajdującego się poniżej. \nRegulamin\nZapisy – uczestnicy niepełnoletni\nZapisy – uczestnicy pełnoletni\nOświadczenie – uczestnicy niepełnoletni\nOświadczenie – uczestnicy pełnoletni
URL:https://osiedlemlodych.pl/wydarzenia/24-turniej-tenisa-stolowego-z-okazji-swieta-niepodleglosci/
LOCATION:Dom Kultury „Jędruś”\, os. Armii Krajowej 101\, Poznań\, Wielkopolskie\, 61-381\, Polska
CATEGORIES:Jędruś
ATTACH;FMTTYPE=image/jpeg:https://osiedlemlodych.pl/wp-content/uploads/2018/01/tenis2.jpg
END:VEVENT
END:VCALENDAR