BEGIN:VCALENDAR
VERSION:2.0
PRODID:-//Spółdzielnia Mieszkaniowa Osiedle Młodych - ECPv5.16.4//NONSGML v1.0//EN
CALSCALE:GREGORIAN
METHOD:PUBLISH
X-WR-CALNAME:Spółdzielnia Mieszkaniowa Osiedle Młodych
X-ORIGINAL-URL:https://osiedlemlodych.pl
X-WR-CALDESC:Wydarzenia dla Spółdzielnia Mieszkaniowa Osiedle Młodych
BEGIN:VTIMEZONE
TZID:Europe/Warsaw
BEGIN:DAYLIGHT
TZOFFSETFROM:+0100
TZOFFSETTO:+0200
TZNAME:CEST
DTSTART:20220327T010000
END:DAYLIGHT
BEGIN:STANDARD
TZOFFSETFROM:+0200
TZOFFSETTO:+0100
TZNAME:CET
DTSTART:20221030T010000
END:STANDARD
END:VTIMEZONE
BEGIN:VEVENT
DTSTART;TZID=Europe/Warsaw:20220319T170000
DTEND;TZID=Europe/Warsaw:20220319T190000
DTSTAMP:20260422T053402
CREATED:20220221T165622Z
LAST-MODIFIED:20220221T182201Z
UID:33307-1647709200-1647716400@osiedlemlodych.pl
SUMMARY:VII Ratajska Gala Piosenki Biesiadnej z Kapelą Średzioki
DESCRIPTION:Specjalnie dla Państwa\, wraz z Kapelą Średzioki\, przygotowaliśmy wyjątkowe wydarzenie! \n19 marca w Domu Kultury „Jędruś” odbędzie się VII Ratajska Gala Piosenki Biesiadnej\, podczas której będzie można przenieść się w klimat najwspanialszej biesiady! \nGwarantujemy wyśmienitą zabawę przy wspólnych śpiewach oraz dużą ilość dobrego humoru 🙂 \nMile widziane przebrania w klimacie biesiadnym oraz folkowym 🙂 \n\nBilety w cenie 25 zł do nabycia u organizatorów (biura czynne pon-pt. 16:00-20:00): \nDK „Jędruś” / os. Armii Krajowej 101 / 61 877 01 51 \nDK „Jubilat” / os. Tysiąclecia 30 / 61 876 08 40 \nDK „Na Pięterku” / os. Orła Białego 5 / 61 879 63 11 \nDK „Polan Sto” / os. Polan 100 / 61 879 71 51 \nBilety dostępne od 1 marca.
URL:https://osiedlemlodych.pl/wydarzenia/33307/
LOCATION:Dom Kultury „Jędruś”\, os. Armii Krajowej 101\, Poznań\, Wielkopolskie\, 61-381\, Polska
CATEGORIES:Jędruś,Jubilat,Na pięterku,Polan Sto
ATTACH;FMTTYPE=image/jpeg:https://osiedlemlodych.pl/wp-content/uploads/2022/02/21640887-1650305358376743-7436101935974764854-o.jpg
END:VEVENT
END:VCALENDAR