BEGIN:VCALENDAR
VERSION:2.0
PRODID:-//Spółdzielnia Mieszkaniowa Osiedle Młodych - ECPv5.16.4//NONSGML v1.0//EN
CALSCALE:GREGORIAN
METHOD:PUBLISH
X-WR-CALNAME:Spółdzielnia Mieszkaniowa Osiedle Młodych
X-ORIGINAL-URL:https://osiedlemlodych.pl
X-WR-CALDESC:Wydarzenia dla Spółdzielnia Mieszkaniowa Osiedle Młodych
BEGIN:VTIMEZONE
TZID:Europe/Warsaw
BEGIN:DAYLIGHT
TZOFFSETFROM:+0100
TZOFFSETTO:+0200
TZNAME:CEST
DTSTART:20250330T010000
END:DAYLIGHT
BEGIN:STANDARD
TZOFFSETFROM:+0200
TZOFFSETTO:+0100
TZNAME:CET
DTSTART:20251026T010000
END:STANDARD
END:VTIMEZONE
BEGIN:VEVENT
DTSTART;TZID=Europe/Warsaw:20250307T140000
DTEND;TZID=Europe/Warsaw:20250307T180000
DTSTAMP:20260422T212621
CREATED:20250217T164633Z
LAST-MODIFIED:20250227T183456Z
UID:50059-1741356000-1741370400@osiedlemlodych.pl
SUMMARY:49. Turniej Tenisa Stołowego z Naszym Sportowym Fyrtlem
DESCRIPTION:Z przyjemnością zapraszamy do wzięcia udziału w 49. Turnieju Tenisa Stołowego. Spędźmy czas podczas zdrowej\, sportowej rywalizacji. Serwujemy Wam zaproszenie – Wy odbijcie piłeczkę! Dla tryumfatorów poszczególnych kategorii wiekowych przewidziano medale oraz nagrody rzeczowe. \n7.03.2025\, od godz. 14:00\nKategorie: dziewczęta i chłopcy (do lat 18).\n\nUdział bezpłatny. Program realizowany jest ze środków Urzędu Miasta Poznania. \nZgłoszenia przyjmujemy na miejscu\, bezpośrednio przed Turniejem. \nREGULAMIN\nOŚWIADCZENIE
URL:https://osiedlemlodych.pl/wydarzenia/49-turniej-tenisa-stolowego/
LOCATION:Dom Kultury „Jędruś”\, os. Armii Krajowej 101\, Poznań\, Wielkopolskie\, 61-381\, Polska
CATEGORIES:Jędruś
ATTACH;FMTTYPE=image/jpeg:https://osiedlemlodych.pl/wp-content/uploads/2022/02/tenis123.jpg
END:VEVENT
END:VCALENDAR