BEGIN:VCALENDAR
VERSION:2.0
PRODID:-//Spółdzielnia Mieszkaniowa Osiedle Młodych - ECPv5.16.4//NONSGML v1.0//EN
CALSCALE:GREGORIAN
METHOD:PUBLISH
X-WR-CALNAME:Spółdzielnia Mieszkaniowa Osiedle Młodych
X-ORIGINAL-URL:https://osiedlemlodych.pl
X-WR-CALDESC:Wydarzenia dla Spółdzielnia Mieszkaniowa Osiedle Młodych
BEGIN:VTIMEZONE
TZID:Europe/Warsaw
BEGIN:DAYLIGHT
TZOFFSETFROM:+0100
TZOFFSETTO:+0200
TZNAME:CEST
DTSTART:20180325T010000
END:DAYLIGHT
BEGIN:STANDARD
TZOFFSETFROM:+0200
TZOFFSETTO:+0100
TZNAME:CET
DTSTART:20181028T010000
END:STANDARD
END:VTIMEZONE
BEGIN:VEVENT
DTSTART;TZID=Europe/Warsaw:20181215T090000
DTEND;TZID=Europe/Warsaw:20181215T130000
DTSTAMP:20260425T030226
CREATED:20181130T134116Z
LAST-MODIFIED:20181130T134210Z
UID:19422-1544864400-1544878800@osiedlemlodych.pl
SUMMARY:Akcja poboru krwi z okazji 100. rocznicy wybuchu Powstania Wielkopolskiego
DESCRIPTION:Zapraszamy osoby w wieku 18-65 lat do czerwonego autobusu przy Ratajskim Domu Harcerza „Skaut” na os. Piastowskim 101.
URL:https://osiedlemlodych.pl/wydarzenia/akcja-poboru-krwi-z-okazji-100-rocznicy-wybuchu-powstania-wielkopolskiego/
LOCATION:Ratajski Dom Harcerza „Skaut”\, os. Piastowskie 101\, Poznań
CATEGORIES:Dom harcerza Skaut
ATTACH;FMTTYPE=image/png:https://osiedlemlodych.pl/wp-content/uploads/2018/03/krew.png
END:VEVENT
END:VCALENDAR