BEGIN:VCALENDAR
VERSION:2.0
PRODID:-//Spółdzielnia Mieszkaniowa Osiedle Młodych - ECPv5.16.4//NONSGML v1.0//EN
CALSCALE:GREGORIAN
METHOD:PUBLISH
X-WR-CALNAME:Spółdzielnia Mieszkaniowa Osiedle Młodych
X-ORIGINAL-URL:https://osiedlemlodych.pl
X-WR-CALDESC:Wydarzenia dla Spółdzielnia Mieszkaniowa Osiedle Młodych
BEGIN:VTIMEZONE
TZID:Europe/Warsaw
BEGIN:DAYLIGHT
TZOFFSETFROM:+0100
TZOFFSETTO:+0200
TZNAME:CEST
DTSTART:20230326T010000
END:DAYLIGHT
BEGIN:STANDARD
TZOFFSETFROM:+0200
TZOFFSETTO:+0100
TZNAME:CET
DTSTART:20231029T010000
END:STANDARD
END:VTIMEZONE
BEGIN:VEVENT
DTSTART;TZID=Europe/Warsaw:20230109T090000
DTEND;TZID=Europe/Warsaw:20230109T190000
DTSTAMP:20260421T163457
CREATED:20230103T193321Z
LAST-MODIFIED:20230103T195628Z
UID:38046-1673254800-1673290800@osiedlemlodych.pl
SUMMARY:AKCJA ZIMA - zapisy
DESCRIPTION:Zapraszamy dzieci w wieku 6-12 lat na zajęcia podczas ferii zimowych.\nZAPISY: osobiste rozpoczynamy 9 stycznia od godziny 9:00\,\ntelefoniczne: 61 8770 151. \nTURNUSY:\n1) 30.01 – 3.02\n2) 6.02 – 10.02 \nGodziny zajęć:\n7:30 – 16:00 \nKOSZT TURNUSU: \n350 zł – mieszkańcy Spółdzielni\n400 zł – pozostali\n10% zniżki dla rodzeństw\n\nDOKUMENTY DO POBRANIA:\nhttps://bit.ly/3WJZ3NB
URL:https://osiedlemlodych.pl/wydarzenia/akcja-zima-zapisy/
LOCATION:Dom Kultury „Jędruś”\, os. Armii Krajowej 101\, Poznań\, Wielkopolskie\, 61-381\, Polska
CATEGORIES:DOMY KULTURY,Jędruś
ATTACH;FMTTYPE=image/png:https://osiedlemlodych.pl/wp-content/uploads/2023/01/szablon-dk-jedrus-kopia3.png
END:VEVENT
END:VCALENDAR