BEGIN:VCALENDAR
VERSION:2.0
PRODID:-//Spółdzielnia Mieszkaniowa Osiedle Młodych - ECPv5.16.4//NONSGML v1.0//EN
CALSCALE:GREGORIAN
METHOD:PUBLISH
X-WR-CALNAME:Spółdzielnia Mieszkaniowa Osiedle Młodych
X-ORIGINAL-URL:https://osiedlemlodych.pl
X-WR-CALDESC:Wydarzenia dla Spółdzielnia Mieszkaniowa Osiedle Młodych
BEGIN:VTIMEZONE
TZID:Europe/Warsaw
BEGIN:DAYLIGHT
TZOFFSETFROM:+0100
TZOFFSETTO:+0200
TZNAME:CEST
DTSTART:20250330T010000
END:DAYLIGHT
BEGIN:STANDARD
TZOFFSETFROM:+0200
TZOFFSETTO:+0100
TZNAME:CET
DTSTART:20251026T010000
END:STANDARD
END:VTIMEZONE
BEGIN:VEVENT
DTSTART;TZID=Europe/Warsaw:20251212T170000
DTEND;TZID=Europe/Warsaw:20251212T180000
DTSTAMP:20260422T073831
CREATED:20251120T132742Z
LAST-MODIFIED:20251120T132742Z
UID:53904-1765558800-1765562400@osiedlemlodych.pl
SUMMARY:Alina Pszczółkowska oraz Michał Gielniak - koncert dla Seniorek i Seniorów
DESCRIPTION:Seniorki i Seniorów zapraszamy na koncert Aliny Pszczółkowskiej oraz Michała Gielniaka\, który odbędzie się 12 grudnia o godz. 17:00. \nDuet zaprezentuje znane piosenki świąteczne\, ale także utwory z repertuaru grup ABBA oraz The Beatles\, hity muzyki włoskiej (Al Bano & Romina Power) czy przeboje Krzysztofa Krawczyka. \nAlina Pszczółkowska – artystka\, która ma na swoim koncie wiele sukcesów artystycznych. II nagroda w 2001 na festiwalu w Mrągowie\, nominacja do Opola za piosenkę „Wiem o Tobie”\, która przez 3 miesiące utrzymywała się na Telewizyjnej Liście Przebojów. Występowała w projekcie ABBA po polsku\, w programach telewizyjnych\, na festiwalach i imprezach okolicznościowych. Współpracowała z orkiestrą Zbigniewa Górnego\, Aleksandra Maliszewskiego\, oraz wieloma artystami polskiej sceny\, użyczając swojego głosu w nagraniach studyjnych. Nagrała kolekcję bajek z aktorami Teatru Nowego w Poznaniu\, gdzie śpiewa piękne piosenki dla dzieci. \nPrzez ostatnie lata występowała z Krzysztofem Krawczykiem na koncertach zarówno w Polsce\, jak i za granicą\, biorąc udział w chórkach oraz nagraniach studyjnych. W repertuarze posiada również znane utwory ABBY\, piosenki o miłości oraz światowe przeboje. \nObecnie zachwyca publiczność projektem pt. „Najpiękniejsze piosenki o miłości”. Jest to zestaw przepięknych piosenek takich jak: „La Paloma”\, „Acropolis Adieu”\, „Kawiarenki”\, a także piosenki Krzysztofa Krawczyka – „Bo jesteś ty” czy „Ostatni raz zatańczysz ze mną”\, które cieszą się ogromną popularnością. \nMichał Gielniak – rozpoczynał karierę w poznańskim zespole ŻUKI Rock & Roll Band wykonującym muzykę z lat 60-tych\, głównie grupy The Beatles. W marcu 1991 roku w poznańskim K&K Studio powstał projekt nagrania materiału muzycznego z przebojami lat 60-tych i 70-tych w polskich wersjach. Podczas nagrań zawiązał się zespół K&K Studio Singers w skład którego obok Jerzego Różyckiego\, Magdy Dureckiej i Aliny Pszczółkowskiej wszedł Michał Gielniak. W tym samym roku na rynku ukazała się pierwsza część hitów zespołu ABBA po polsku. Płyta cieszyła się ogromnym zainteresowaniem i dużą popularnością. Zespół K&K Studio Singers koncertował we wszystkich dużych ośrodkach muzycznych Polski\, a także w wielu małych miejscowościach\, gdzie przyjmowany był entuzjastycznie. W grudniu 1993 roku został zrealizowany recital zespołu z piosenkami ABBY dla TVP 2. \nW 1994 roku Michał z premierową piosenką „Dogonię Cię” stał się 3-krotnym laureatem telewizyjno-radiowego plebiscytu „Muzyczna Jedynka”\, towarzyszył też Magdzie Dureckiej na festiwalu w Opolu w nagrodzonym przez jury „Magda Dance Mega Mix” oraz nagrał w duecie z Magdą płytę pt. „Kiedy kochasz\, kiedy pragniesz”. \nW 1996 roku nagrał swój debiutancki album zatytułowany „19 miał lat”. Na przełomie 1996 i 1997 roku płyta zyskała miano „złotej”\, a w marcu ’97 „platynowej”. Piosenka spędziła 42 tygodnie na liście przebojów programu Disco Relax. Zainteresowanie płytą odzwierciedlone zostało liczbą zagranych koncertów. W niespełna rok Michał Gielniak wystąpił na 350 koncertach w całym kraju. \nW 1997 roku otrzymał od producentów propozycję nagrania drugiej płyty. Ukazała się ona w marcu 1997 roku. Największą popularnością cieszyła się piosenka Bobby’ego Vintona „My Melody of Love”\, czyli „Moja droga ja Cię kocham”. \nRównolegle na przełomie 1996 i 1997 roku\, w okresie największych solowych sukcesów\, w K&K Studio powstaje boysband NOT FOR BOYZ\, z którym nagrał 3 płyty („Not For Boyz”\, „W blasku świec” i „WWW.NFB.COM.PL”) odbył liczne trasy koncertowe\, w tym w ramach „Lata z Radiem”. Wystąpił też na festiwalu w Opolu. W 2000 r. Michał nagrał płytę z polskimi wersjami największych przebojów latynoamerykańskich pt. „Bailamos po polsku”. Jednocześnie cały czas koncertuje i nagrywa płyty z zespołem ŻUKI Rock & Roll Band.
URL:https://osiedlemlodych.pl/wydarzenia/alina-pszczolkowska-oraz-michal-gielniak-koncert-dla-seniorek-i-seniorow/
LOCATION:Klub „Cybinka”\, ul. Warszawska 93/95\, Poznań\, Wielkopolska\, 61-031\, Poland
CATEGORIES:Klub Cybinka
ATTACH;FMTTYPE=image/png:https://osiedlemlodych.pl/wp-content/uploads/2025/11/kafelek-www.png
ORGANIZER;CN="Klub%20%22Cybinka%22":MAILTO:cybinka@osiedlemlodych.pl
END:VEVENT
END:VCALENDAR