BEGIN:VCALENDAR
VERSION:2.0
PRODID:-//Spółdzielnia Mieszkaniowa Osiedle Młodych - ECPv5.16.4//NONSGML v1.0//EN
CALSCALE:GREGORIAN
METHOD:PUBLISH
X-WR-CALNAME:Spółdzielnia Mieszkaniowa Osiedle Młodych
X-ORIGINAL-URL:https://osiedlemlodych.pl
X-WR-CALDESC:Wydarzenia dla Spółdzielnia Mieszkaniowa Osiedle Młodych
BEGIN:VTIMEZONE
TZID:Europe/Warsaw
BEGIN:DAYLIGHT
TZOFFSETFROM:+0100
TZOFFSETTO:+0200
TZNAME:CEST
DTSTART:20240331T010000
END:DAYLIGHT
BEGIN:STANDARD
TZOFFSETFROM:+0200
TZOFFSETTO:+0100
TZNAME:CET
DTSTART:20241027T010000
END:STANDARD
END:VTIMEZONE
BEGIN:VEVENT
DTSTART;TZID=Europe/Warsaw:20240520T173000
DTEND;TZID=Europe/Warsaw:20240520T190000
DTSTAMP:20260421T163441
CREATED:20240117T151742Z
LAST-MODIFIED:20240513T194249Z
UID:44691-1716226200-1716231600@osiedlemlodych.pl
SUMMARY:ArtyStacja Rodzinna! Prezent dla Mamy
DESCRIPTION:Dzień Mamy to takie Święto\, które chciałoby się radośnie i hucznie obchodzić cały rok 🥰 \nAle co zrobić\, jeśli nie ma się pomysłu na prezent? \nWystarczy przyjść na ArtyStację Rodzinną! 👨‍👩‍👧‍👦 \nNasi stali młodzi artyści z pewnością by Wam opowiedzieli ile frajdy daje im cotygodniowe tworzenie przeróżnistych dzieł plastycznych. \nTym razem pod okiem Pani Renaty przygotujemy niespodziankę dla naszych Mam 🥰 \n\nKonkrety:\n poniedziałek 20 maja 2024 17:30-19:00\n wiek dzieci w zasadzie bez ograniczeń 😉 bo opiekę nad nimi sprawować będą Rodzice\, Dziadkowie lub inni dorośli opiekunowie.\n\n koszt: 25 zł za dziecko (płatność kartą lub gotówką  ) Rodzic/Opiekun gratis 😉\nStali uczestnicy zajęć z miesięcznym karnetem – bez dodatkowych opłat.\n Miejsce akcji: Klub Cybinka\, ul. Warszawska 93/95 Poznań\n\n Zapisy: Poprzez Formularz Google.\n\n\n﻿﻿﻿﻿Ładuję… \n\n Obejrzyj relacje z dotychczasowych zajęć: https://osiedlemlodych.pl/oferta/artystacja/\n\nPolecamy\, zapraszamy!
URL:https://osiedlemlodych.pl/wydarzenia/artystacjarodzinna/
LOCATION:Klub „Cybinka”\, ul. Warszawska 93/95\, Poznań\, Wielkopolska\, 61-031\, Poland
CATEGORIES:Klub Cybinka
ATTACH;FMTTYPE=image/jpeg:https://osiedlemlodych.pl/wp-content/uploads/2024/01/artystacja-rodzinna-www.jpg
ORGANIZER;CN="Klub%20%22Cybinka%22":MAILTO:cybinka@osiedlemlodych.pl
END:VEVENT
END:VCALENDAR