BEGIN:VCALENDAR
VERSION:2.0
PRODID:-//Spółdzielnia Mieszkaniowa Osiedle Młodych - ECPv5.16.4//NONSGML v1.0//EN
CALSCALE:GREGORIAN
METHOD:PUBLISH
X-WR-CALNAME:Spółdzielnia Mieszkaniowa Osiedle Młodych
X-ORIGINAL-URL:https://osiedlemlodych.pl
X-WR-CALDESC:Wydarzenia dla Spółdzielnia Mieszkaniowa Osiedle Młodych
BEGIN:VTIMEZONE
TZID:Europe/Warsaw
BEGIN:DAYLIGHT
TZOFFSETFROM:+0100
TZOFFSETTO:+0200
TZNAME:CEST
DTSTART:20230326T010000
END:DAYLIGHT
BEGIN:STANDARD
TZOFFSETFROM:+0200
TZOFFSETTO:+0100
TZNAME:CET
DTSTART:20231029T010000
END:STANDARD
END:VTIMEZONE
BEGIN:VEVENT
DTSTART;TZID=Europe/Warsaw:20230910T140000
DTEND;TZID=Europe/Warsaw:20230910T190000
DTSTAMP:20260422T090241
CREATED:20230829T122134Z
LAST-MODIFIED:20230831T070813Z
UID:42347-1694354400-1694372400@osiedlemlodych.pl
SUMMARY:BABIE LATO - piknik rodzinny
DESCRIPTION:W niedzielne popołudnie 10 września zapraszamy na piknik „Babie Lato” na os. Rzeczypospolitej (skwer zieleni od strony ul. Wyzwolenia\, między SP nr 20 a X LO).\nOd godz. 14.00 na scenie będą prezentować się młode talenty taneczne z DK „Jędruś” i „Jagiellonka” (formacja Power of Dance\, grupy Kolejorz Kids i Juniors) natomiast uczestniczki Mistrzostw Świata w Cheerladingu – Kolejorz Girls zabiorą nas w taneczną podróż dookoła świata /godz. 17:30/) oraz uczniowie Szkoły Muzycznej T. Burton. Najmłodszą publiczność porwie do zabawy Przemo Urbaniak znany jako Wujek Ogórek\, autor wielu aktualnych przedszkolnych hitów /godz. 15:00-16:00/.\nPodczas imprezy pojawi się akcent jubileuszowy z okazji 65-lecia SM „Osiedle Młodych”-  zaprosimy mieszkańców do udziału w tworzeniu wspólnej rzeźby z ceramicznych elementów /godz. 15:00-18:00/ oraz do integracji tanecznej w popularnej „belgijce” /godz. 18:30/.\nNie zabraknie przygotowanej przez Domy Kultury strefy kreatywnej z różnorakimi warsztatami dla młodszych i starszych\, kąciku zabaw dla smyków\, które z pewnością zainteresuje również wiejska zagroda ze zwierzętami. Amatorzy sportu też znajdą coś dla siebie (pokaz capoeira\, zumby\, strefa rekreacji ruchowej). Bezpłatne atrakcje  (dmuchańce\, ściankę wspinaczkową\, labirynt itp.) zapewni „Mój Sportowy Azyl”. Piknikową atmosferę podkręcą hamaki\, leżaki i stoiska gastronomiczne – do godz. 19.00 będzie można cieszyć się smakiem specjałów z grilla\, lodów\, kawy\, waty cukrowej i nie tylko. Trzymamy kciuki za pogodę i zapraszamy całe rodziny!
URL:https://osiedlemlodych.pl/wydarzenia/babie-lato-piknik-rodzinny/
LOCATION:os. Rzeczypospolitej\, ul. Wyzwolenia\, Poznań\, Polska
CATEGORIES:DOMY KULTURY,Jagiellonka,Jędruś
ATTACH;FMTTYPE=image/jpeg:https://osiedlemlodych.pl/wp-content/uploads/2023/08/babie-lato2.jpg
END:VEVENT
END:VCALENDAR