BEGIN:VCALENDAR
VERSION:2.0
PRODID:-//Spółdzielnia Mieszkaniowa Osiedle Młodych - ECPv5.16.4//NONSGML v1.0//EN
CALSCALE:GREGORIAN
METHOD:PUBLISH
X-WR-CALNAME:Spółdzielnia Mieszkaniowa Osiedle Młodych
X-ORIGINAL-URL:https://osiedlemlodych.pl
X-WR-CALDESC:Wydarzenia dla Spółdzielnia Mieszkaniowa Osiedle Młodych
BEGIN:VTIMEZONE
TZID:Europe/Warsaw
BEGIN:DAYLIGHT
TZOFFSETFROM:+0100
TZOFFSETTO:+0200
TZNAME:CEST
DTSTART:20230326T010000
END:DAYLIGHT
BEGIN:STANDARD
TZOFFSETFROM:+0200
TZOFFSETTO:+0100
TZNAME:CET
DTSTART:20231029T010000
END:STANDARD
END:VTIMEZONE
BEGIN:VEVENT
DTSTART;TZID=Europe/Warsaw:20230602T170000
DTEND;TZID=Europe/Warsaw:20230602T180000
DTSTAMP:20260422T121917
CREATED:20230519T180249Z
LAST-MODIFIED:20230519T180249Z
UID:40385-1685725200-1685728800@osiedlemlodych.pl
SUMMARY:BAJKOWY DZIEŃ DZIECKA
DESCRIPTION:Świat bajek to jest to co dzieci uwielbiają 🙂 Zapraszamy na imprezę z animacjami z okazji Dnia Dziecka 🙂
URL:https://osiedlemlodych.pl/wydarzenia/bajkowy-dzien-dziecka/
LOCATION:Dom Kultury „Jubilat”\, os. Tysiąclecia 30\, Poznań\, wielkopolskie\, 61-255\, Polska
CATEGORIES:Jubilat
ATTACH;FMTTYPE=image/jpeg:https://osiedlemlodych.pl/wp-content/uploads/2023/05/castle-g585e22272-640-min.jpg
END:VEVENT
END:VCALENDAR