BEGIN:VCALENDAR
VERSION:2.0
PRODID:-//Spółdzielnia Mieszkaniowa Osiedle Młodych - ECPv5.16.4//NONSGML v1.0//EN
CALSCALE:GREGORIAN
METHOD:PUBLISH
X-WR-CALNAME:Spółdzielnia Mieszkaniowa Osiedle Młodych
X-ORIGINAL-URL:https://osiedlemlodych.pl
X-WR-CALDESC:Wydarzenia dla Spółdzielnia Mieszkaniowa Osiedle Młodych
BEGIN:VTIMEZONE
TZID:Europe/Warsaw
BEGIN:DAYLIGHT
TZOFFSETFROM:+0100
TZOFFSETTO:+0200
TZNAME:CEST
DTSTART:20240331T010000
END:DAYLIGHT
BEGIN:STANDARD
TZOFFSETFROM:+0200
TZOFFSETTO:+0100
TZNAME:CET
DTSTART:20241027T010000
END:STANDARD
END:VTIMEZONE
BEGIN:VEVENT
DTSTART;TZID=Europe/Warsaw:20240518T120000
DTEND;TZID=Europe/Warsaw:20240518T133000
DTSTAMP:20260421T102732
CREATED:20240405T163737Z
LAST-MODIFIED:20240417T143202Z
UID:46086-1716033600-1716039000@osiedlemlodych.pl
SUMMARY:Bal Owadów
DESCRIPTION:Bardzo serdecznie zapraszamy wszystkie przebrane za OWADY dzieci na bzzzyczący BAL OWADÓW! 🐛🦋🐞🪲🐝\nPOLANkowe pszczółki\, motylki i trzmiele zamienią dom kultury w przepiękny ul i kolorową polanę! W trakcie balu pojawią się tańce i wesołe zabawy angażujące dzieci! \nSzykuje się wspaniała zabawa! \nBilety w cenie 20 zł do nabycia w DK „Polan STO” od pn. do pt.\, w godz. 16:00 – 20:00 od 15.04.2024 r.
URL:https://osiedlemlodych.pl/wydarzenia/bal-owadow/
LOCATION:DK „Polan Sto”
CATEGORIES:Polan Sto
ATTACH;FMTTYPE=image/png:https://osiedlemlodych.pl/wp-content/uploads/2024/04/zdjecie-strona25.png
END:VEVENT
END:VCALENDAR