BEGIN:VCALENDAR
VERSION:2.0
PRODID:-//Spółdzielnia Mieszkaniowa Osiedle Młodych - ECPv5.16.4//NONSGML v1.0//EN
CALSCALE:GREGORIAN
METHOD:PUBLISH
X-WR-CALNAME:Spółdzielnia Mieszkaniowa Osiedle Młodych
X-ORIGINAL-URL:https://osiedlemlodych.pl
X-WR-CALDESC:Wydarzenia dla Spółdzielnia Mieszkaniowa Osiedle Młodych
BEGIN:VTIMEZONE
TZID:Europe/Warsaw
BEGIN:DAYLIGHT
TZOFFSETFROM:+0100
TZOFFSETTO:+0200
TZNAME:CEST
DTSTART:20230326T010000
END:DAYLIGHT
BEGIN:STANDARD
TZOFFSETFROM:+0200
TZOFFSETTO:+0100
TZNAME:CET
DTSTART:20231029T010000
END:STANDARD
END:VTIMEZONE
BEGIN:VEVENT
DTSTART;TZID=Europe/Warsaw:20230831T160000
DTEND;TZID=Europe/Warsaw:20230831T200000
DTSTAMP:20260422T020358
CREATED:20230808T180901Z
LAST-MODIFIED:20230809T140340Z
UID:42080-1693497600-1693512000@osiedlemlodych.pl
SUMMARY:Język angielski - Bezpłatne lekcje pokazowe!
DESCRIPTION:Dom Kultury „Na Skarpie” zaprasza na bezpłatne lekcje pokazowe języka angielskiego ze Szkołą Języków Obcych Leader School Rataje!\n👇\nZAPISY:\n👉 telefonicznie 535 145 755 \n👉 mailem rataje@leaderschool.pl\n👉 przez formularz leaderschool.pl/bezplatne-lekcje-pokazowe\n👇\n\n\n\nDATA\nGODZINA\n➡ METODA ⬅\nWIEK\n\n\n\n\n28.08.2023\n16:00\nLeo English\n 3 – 4 lata\n\n\n28.08.2023\n17:00\nLeo English\n 5 – 6 lat\n\n\n28.08.2023\n18:00\nLeo English\n7 – 8 lat\n\n\n28.08.2023\n19:00\nLeo English\n9 – 10 lat\n\n\n31.08.2023\n16:00\nDirect \n11 – 13 lat\n\n\n31.08.2023\n17:00\nDirect \n14 – 17 lat\n\n\n31.08.2023\n18:00\nBLS\nSeniorzy\n\n\n31.08.2023\n19:00\nBLS\n18+\n\n\n\n\n👉 Wydarzenie na FB\n  \n1. DZIECI 3 – 10 lat – METODA LEO ENGLISH \nLeoEnglish to:  \n– wykorzystanie naturalnego procesu nabywania przez dzieci umiejętności językowych i komunikowania się w języku angielskim; \n– wprowadzenie bogatej metodyki zajęć oraz narzędzi angażujących wszystkie zmysły;  \n– mówienie do dzieci tylko po angielsku poprzez właściwy dobór słów i wspieranie wypowiedzi gestem; \n– zastosowanie dramy\, zabawy\, aktywności ruchowych\, aktywności plastycznych\, muzyki oraz technik efektywnego uczenia się oraz wiele innych – wszystko po to\, by uczyć dzieci języka angielskiego wyjątkową i skuteczną metodą jaką jest Leo English. \nJesteśmy innowacyjną Szkołą i posiadamy jako JEDYNI na Ratajach Robota uczącego języka angielskiego – EMYS jest niekwestionowanym przyjacielem dzieci\, potrafi okazywać emocje i nie lubi się nudzić. Można z nim pograć w liczne gry\, a w przypadku wygranej nagradza robiąc wspólne zdjęcie czy puszczając krótką bajkę.\nDodatkowo posiadamy mówiący długopis TING – stworzony na licencji Leo English we współpracy z siecią Empik.\nW naszej Szkole pracują tylko najlepsi lektorzy\, którzy oprócz wysokich kwalifikacji posiadają również umiejętność skutecznego przekazywania wiedzy. Każdy z naszych lektorów przechodzi dodatkowe testy weryfikacyjne oraz uczestniczy w szkoleniach prowadzonych przez autorów metody Leo English. \n  \n2. MŁODZIEŻ 11 – 17 lat –  METODA DIRECT \nMetoda bezpośrednia kładzie duży nacisk na praktykę i pracę ustną – słuchanie i mówienie. Około 80% lekcji to praca ustna z lektorem\, polegająca na kontrolowanym dialogu\, w którym lektor zadaje pytania w oparciu o wprowadzone wcześniej słownictwo oraz zagadnienia gramatyczne. W ten sposób nowy materiał jest ćwiczony zarówno w praktyce jak i w odpowiednim kontekście. Najlepszym sposobem nauki języka jest po prostu mówienie nim. Słuchacze biorą aktywny udział w zajęciach\, odpowiadając na pytania nauczyciela w pełnej formie tak\, aby wydłużyć czas mówienia oraz ćwiczyć jak najwięcej słów i struktur gramatycznych. Podsumowując\, słownictwo jest ważniejsze od gramatyki\, a najważniejsze jest mówienie. Nauczyciel unika również tłumaczenia na język ucznia. W kolejnych partiach lekcji nowe pytania zawierają aktualnie wprowadzane słowa lub gramatykę\, a resztę materiału słuchacz już zna z poprzednich lekcji. Języka obcego uczymy się podobnie\, jak dziecko uczące się swojego pierwszego języka. Słuchacz najpierw słyszy słowa\, następnie wypowiada je imitując wymowę nauczyciela\, a dopiero potem poznaje pisownię: czyta i pisze. Aby rozwinąć odpowiednie odruchy językowe\, należy mówić szybko i bez zastanawiania się. Dzięki temu wykorzenia się nawyk myślenia po polsku i tłumaczenia na język obcy\, który bardzo utrudnia rozumienie ze słuchu i mówienie w naturalnym tempie. Nauczyciel kładzie duży nacisk na poprawność wypowiedzi pod względem wymowy\, słownictwa i gramatyki\, co utrwala prawidłowe nawyki językowe u słuchaczy\, a także motywuje ich do dbania o formułowanie bezbłędnych zdań. Znajomość zasad gramatycznych pojawia się z biegiem czasu: potrzebne zagadnienia gramatyczne poznajemy podczas lekcji\, ćwicząc je od razu w praktyce w zdaniach\, natomiast co jakiś czas robione są lekcje gramatyczne\, poświęcone w całości utrwaleniu i wyjaśnieniu gramatyki. Tajemnicą sukcesu w uczeniu się języka obcego są powtórki materiału. Nauka języka polega głównie na wykształceniu szybkich odruchów\, podobnie jak pisanie na maszynie\, albo gra na fortepianie – a takie odruchy można wykształcić jedynie przez częste powtórki. Metoda ta doskonale łamie bariery i opory w mówieniu po angielsku. W bardzo szybkim tempie zaczynasz mówić bez stresu i zastanowienia. \n  \n3. DOROŚLI – METODA BLS \nMetoda BLS skupia się na najważniejszych\, praktycznych aspektach nauki języka. Od pierwszych zajęć jest to dynamiczna komunikacja wyłącznie w języku angielskim utrzymana w naturalnym tempie mówienia. Dzięki temu od razu zaczynasz mówić i rozumieć język\, którego się uczysz. Skuteczny system powtarzania i wykorzystanie efektywnych metod zapamiętywania zapewnia sprawne i systematyczne utrwalanie materiału. Metoda BLS jest efektem połączenia unikalnej metodyki wyjątkowych zajęć prowadzonych przez lektora z bogactwem materiałów dydaktycznych: książek i rozwiązań multimedialnych\, audiobooków i zestawu FLIPCARDS z innowacyjnym systemem doboru zajęć i pomocy dydaktycznych. To sprawia\, że uczysz się skutecznie i maksymalnie wykorzystujesz swój czas poświęcony na naukę języka. Wyjątkowa ścieżka dydaktyczna BLS pozwali Ci osiągnąć pełną swobodę mówienia w ciągu kilku miesięcy. Wystarczy na naukę poświęcisz kilka godzin tygodniowo\, by posiąść umiejętność płynnego posługiwania się językiem angielskim czy niemieckim. BLS UCZY MÓWIĆ!  \nPolecamy\, zapraszamy! \n \n 
URL:https://osiedlemlodych.pl/wydarzenia/bezplatnelekcjepokazowe2/
LOCATION:Dom Kultury „Na Skarpie”\, os. Piastowskie 104\, Poznań\, województwo wielkopolskie\, 61-164\, Polska
CATEGORIES:Na Skarpie
ATTACH;FMTTYPE=image/png:https://osiedlemlodych.pl/wp-content/uploads/2023/08/leader-school-na-zewnatrz.png
ORGANIZER;CN="Dom%20Kultury%20%22Na%20Skarpie%22":MAILTO:naskarpie@osiedlemlodych.pl
END:VEVENT
END:VCALENDAR