BEGIN:VCALENDAR
VERSION:2.0
PRODID:-//Spółdzielnia Mieszkaniowa Osiedle Młodych - ECPv5.16.4//NONSGML v1.0//EN
CALSCALE:GREGORIAN
METHOD:PUBLISH
X-WR-CALNAME:Spółdzielnia Mieszkaniowa Osiedle Młodych
X-ORIGINAL-URL:https://osiedlemlodych.pl
X-WR-CALDESC:Wydarzenia dla Spółdzielnia Mieszkaniowa Osiedle Młodych
BEGIN:VTIMEZONE
TZID:Europe/Warsaw
BEGIN:DAYLIGHT
TZOFFSETFROM:+0100
TZOFFSETTO:+0200
TZNAME:CEST
DTSTART:20180325T010000
END:DAYLIGHT
BEGIN:STANDARD
TZOFFSETFROM:+0200
TZOFFSETTO:+0100
TZNAME:CET
DTSTART:20181028T010000
END:STANDARD
END:VTIMEZONE
BEGIN:VEVENT
DTSTART;TZID=Europe/Warsaw:20181213T120000
DTEND;TZID=Europe/Warsaw:20181213T140000
DTSTAMP:20260425T043936
CREATED:20181207T113117Z
LAST-MODIFIED:20181207T113612Z
UID:19615-1544702400-1544709600@osiedlemlodych.pl
SUMMARY:„Bohaterowie żyli i żyją wśród nas\, Wielkopolan”
DESCRIPTION:Uroczystość podsumowująca zadanie publiczne  „Bohaterowie żyli i żyją wśród nas\, Wielkopolan” finansowane przez Ministra Obrony Narodowej powierzone do realizacji Wielkopolskiemu Związkowi Oficerów Rezerwy RP im. Marszałka Józefa Piłsudskiego oraz Wielkopolskiemu Stowarzyszeniu Upamiętnienia Żołnierzy Wyklętych\, we współpracy ze Szkołą Podstawową Nr 18 im. Zofii Nałkowskiej w Poznaniu i DK „Jędruś”.\nW ramach projektu zrealizowano:\n1) wystawę w DK „Jędruś” pn. „Bohaterowie Niepodległej”;\n2) lekcje patriotyzmu dot. wybranych Bohaterów\, w tym z udziałem kombatantów zrealizowane z uczniami klas VII-VIII SP nr 18 Poznań;\n3) wycieczkę poświęconą Żołnierzom Wyklętym do Warszawy;\n4) konkursy (plastyczny i multimedialny) dla uczniów SP nr 18 w Poznaniu\, poświęcone wybranej postaci historycznej związanej z odzyskaniem bądź/i utrzymaniem przez Polskę niepodległości;\n5) krótkofalarską akcję dyplomową „Bohaterowie Niepodległej”  \nPlanowany przebieg uroczystości:\n– powitanie przybyłych gości przez dyrektor SP nr 18 Aldonę Feder i prezesa Wielkopolskiego Związku Oficerów Rezerwy RP im. Marszałka Józefa Piłsudskiego płk. dypl. Jacentego Górala\,\n– otwarcie wystawy pn. „Bohaterowie Niepodległej” przez gen. Jana Podhorskiego i asyście innych przybyłych gości\,\n– podsumowanie zrealizowanych zadań przez koordynatora projektu\, wiceprezesa obu ww. stowarzyszeń mjr. Jacka Behrendta\,\n– wręczenie nagród laureatom konkursów i najaktywniejszym operatorom klubowej stacji radiowej\,\n– część artystyczna przygotowana przez nauczycieli i uczniów SP nr 18 w Poznaniu\,\n– spotkanie okolicznościowe przybyłych gości z dyrekcją SP nr 18 w Poznaniu.
URL:https://osiedlemlodych.pl/wydarzenia/bohaterowie-zyli-i-zyja-wsrod-nas-wielkopolan/
LOCATION:Dom Kultury „Jędruś”\, os. Armii Krajowej 101\, Poznań\, Wielkopolskie\, 61-381\, Polska
CATEGORIES:Jędruś
ATTACH;FMTTYPE=image/jpeg:https://osiedlemlodych.pl/wp-content/uploads/2018/10/24058837_723893637819859_1573195283703837465_n.jpg
END:VEVENT
END:VCALENDAR