BEGIN:VCALENDAR
VERSION:2.0
PRODID:-//Spółdzielnia Mieszkaniowa Osiedle Młodych - ECPv5.16.4//NONSGML v1.0//EN
CALSCALE:GREGORIAN
METHOD:PUBLISH
X-WR-CALNAME:Spółdzielnia Mieszkaniowa Osiedle Młodych
X-ORIGINAL-URL:https://osiedlemlodych.pl
X-WR-CALDESC:Wydarzenia dla Spółdzielnia Mieszkaniowa Osiedle Młodych
BEGIN:VTIMEZONE
TZID:Europe/Warsaw
BEGIN:DAYLIGHT
TZOFFSETFROM:+0100
TZOFFSETTO:+0200
TZNAME:CEST
DTSTART:20260329T010000
END:DAYLIGHT
BEGIN:STANDARD
TZOFFSETFROM:+0200
TZOFFSETTO:+0100
TZNAME:CET
DTSTART:20261025T010000
END:STANDARD
END:VTIMEZONE
BEGIN:VEVENT
DTSTART;TZID=Europe/Warsaw:20260515T180000
DTEND;TZID=Europe/Warsaw:20260515T180000
DTSTAMP:20260420T023123
CREATED:20260408T104020Z
LAST-MODIFIED:20260408T104020Z
UID:55889-1778868000-1778868000@osiedlemlodych.pl
SUMMARY:Ciao\, Ciao\, Italia! - Potańcówka dla Seniorów
DESCRIPTION:Potańcówka dla seniorów „Ciao\, Ciao\, Italia” w rytmie największych włoskich hitów! \nPodczas imprezy przeniesiemy się prosto do słonecznej Italii – nie zabraknie znanych i lubianych przebojów\, które porwą do tańca i wprawią wszystkich w doskonały nastrój. Czekają na Was włoskie rytmy\, wspólna zabawa oraz taneczna atmosfera pełna radości i uśmiechu. \nImpreza przebierana! Mile widziane stroje inspirowane włoskim stylem – może odrobina Dolce Vita? 🇮🇹 \nBezpłatne wejściówki do odbioru w DK „Polan STO”od 27 kwietnia 2026 r. w godzinach 16:00–20:00\, od poniedziałku do piątku. \n\nWydarzenie realizowane w ramach projektu „Ratajski Przystanek Seniora”\, dofinansowane z budżetu Miasta Poznania.
URL:https://osiedlemlodych.pl/wydarzenia/ciao-ciao-italia-potancowka-dla-seniorow/
LOCATION:DK „Polan STO”\, os. Polan 100\, Poznań
CATEGORIES:Polan Sto
ATTACH;FMTTYPE=image/png:https://osiedlemlodych.pl/wp-content/uploads/2026/04/darmowe-fotki13.png
END:VEVENT
END:VCALENDAR