BEGIN:VCALENDAR
VERSION:2.0
PRODID:-//Spółdzielnia Mieszkaniowa Osiedle Młodych - ECPv5.16.4//NONSGML v1.0//EN
CALSCALE:GREGORIAN
METHOD:PUBLISH
X-WR-CALNAME:Spółdzielnia Mieszkaniowa Osiedle Młodych
X-ORIGINAL-URL:https://osiedlemlodych.pl
X-WR-CALDESC:Wydarzenia dla Spółdzielnia Mieszkaniowa Osiedle Młodych
BEGIN:VTIMEZONE
TZID:Europe/Warsaw
BEGIN:DAYLIGHT
TZOFFSETFROM:+0100
TZOFFSETTO:+0200
TZNAME:CEST
DTSTART:20230326T010000
END:DAYLIGHT
BEGIN:STANDARD
TZOFFSETFROM:+0200
TZOFFSETTO:+0100
TZNAME:CET
DTSTART:20231029T010000
END:STANDARD
END:VTIMEZONE
BEGIN:VEVENT
DTSTART;TZID=Europe/Warsaw:20230427T170000
DTEND;TZID=Europe/Warsaw:20230427T183000
DTSTAMP:20260421T222531
CREATED:20230418T163019Z
LAST-MODIFIED:20230418T163019Z
UID:39951-1682614800-1682620200@osiedlemlodych.pl
SUMMARY:Co bzzzyczy na POLANie? Warsztaty przyrodnicze !
DESCRIPTION:Zapraszamy bardzo serdecznie na warsztaty przyrodnicze pt.:”Rola ZAPYLACZY w przyrodzie” wszystkie dzieci w wieku od lat 6 oraz młodzież\, którzy chcą zaczerpnąć wiedzy na temat owadów zapylających w naszym ekosystemie. Będziemy też tworzyć lapbooka i postaramy się\, by jak najwięcej przydatnych informacji wróciło z nami do domów! \nWydarzenie to zorganizowane będzie w ramach obchodów 65-lecia Spółdzielni Mieszkaniowej „Osiedle Młodych” w Poznaniu\, gdzie hasło przewodnie „Ludzie Rataj” ma przyciągać mieszkańców do wspólnych aktywności\, a naszą POLANkową aktywnością będzie ekologia\, a dokładniej współpraca mieszkańców Rataj z mieszkańcami osiedlowych polan\, skwerów zieleni i parków\, czyli rola owadów i zapylaczy. \nWarsztaty są bezpłatne\, obowiązują zapisy: telefoniczne (61 8797 151)\, mailowe (polansto@osiedlemlodych.pl) lub osobiste 🙂
URL:https://osiedlemlodych.pl/wydarzenia/co-bzzzyczy-na-polanie-warsztaty-przyrodnicze/
LOCATION:DK „Polan Sto”
CATEGORIES:Polan Sto
ATTACH;FMTTYPE=image/png:https://osiedlemlodych.pl/wp-content/uploads/2022/04/owady-zapylajace-warsztaty.png
END:VEVENT
END:VCALENDAR