BEGIN:VCALENDAR
VERSION:2.0
PRODID:-//Spółdzielnia Mieszkaniowa Osiedle Młodych - ECPv5.16.4//NONSGML v1.0//EN
CALSCALE:GREGORIAN
METHOD:PUBLISH
X-WR-CALNAME:Spółdzielnia Mieszkaniowa Osiedle Młodych
X-ORIGINAL-URL:https://osiedlemlodych.pl
X-WR-CALDESC:Wydarzenia dla Spółdzielnia Mieszkaniowa Osiedle Młodych
BEGIN:VTIMEZONE
TZID:Europe/Warsaw
BEGIN:DAYLIGHT
TZOFFSETFROM:+0100
TZOFFSETTO:+0200
TZNAME:CEST
DTSTART:20260329T010000
END:DAYLIGHT
BEGIN:STANDARD
TZOFFSETFROM:+0200
TZOFFSETTO:+0100
TZNAME:CET
DTSTART:20261025T010000
END:STANDARD
END:VTIMEZONE
BEGIN:VEVENT
DTSTART;TZID=Europe/Warsaw:20260511T143000
DTEND;TZID=Europe/Warsaw:20260511T160000
DTSTAMP:20260419T160208
CREATED:20260417T190745Z
LAST-MODIFIED:20260417T192615Z
UID:56061-1778509800-1778515200@osiedlemlodych.pl
SUMMARY:Co w prawie piszczy? - prelekcja w ramach cyklu Ratajski Przystanek Seniora
DESCRIPTION:Zapraszamy na cykl prelekcji\, których celem jest poszerzenie świadomości i wiedzy seniorów w zakresie podstawowych zagadnień prawnych.\nPodczas spotkań poruszane będą tematy związane z m.in. testamentem jako formą rozporządzenia majątkiem na wypadek śmierci\, dziedziczeniem ustawowym\, prawem do zachowku. \nPrelekcje poprowadzi Joanna Nowak  –  absolwentka prawa na Wydziale Prawa i Administracji Uniwersytetu im. A. Mickiewicza w Poznaniu\, Członek Okręgowej Izby Radców Prawnych w Poznaniu;  założycielka Fundacji Gonito – podejmującej działania na rzecz szczęśliwej i świadomej rodziny. \nWydarzenie bezpłatne – odbędzie się w ramach cyklu Ratajski Przystanek Seniora. Jego organizatorem jest Ratajskie Centrum Kultury. Projekt dofinansowano ze środków budżetowych Miasta Poznania. \n#poznanwspiera
URL:https://osiedlemlodych.pl/wydarzenia/co-w-prawie-piszczy-prelekcja-w-ramach-ratajskiego-przystanku-seniora/
LOCATION:Dom Kultury „Jędruś”\, os. Armii Krajowej 101\, Poznań\, Wielkopolskie\, 61-381\, Polska
CATEGORIES:Jędruś
ATTACH;FMTTYPE=image/jpeg:https://osiedlemlodych.pl/wp-content/uploads/2026/04/still-life-with-scales-justice1.jpg
END:VEVENT
END:VCALENDAR