BEGIN:VCALENDAR
VERSION:2.0
PRODID:-//Spółdzielnia Mieszkaniowa Osiedle Młodych - ECPv5.16.4//NONSGML v1.0//EN
CALSCALE:GREGORIAN
METHOD:PUBLISH
X-WR-CALNAME:Spółdzielnia Mieszkaniowa Osiedle Młodych
X-ORIGINAL-URL:https://osiedlemlodych.pl
X-WR-CALDESC:Wydarzenia dla Spółdzielnia Mieszkaniowa Osiedle Młodych
BEGIN:VTIMEZONE
TZID:Europe/Warsaw
BEGIN:DAYLIGHT
TZOFFSETFROM:+0100
TZOFFSETTO:+0200
TZNAME:CEST
DTSTART:20220327T010000
END:DAYLIGHT
BEGIN:STANDARD
TZOFFSETFROM:+0200
TZOFFSETTO:+0100
TZNAME:CET
DTSTART:20221030T010000
END:STANDARD
END:VTIMEZONE
BEGIN:VEVENT
DTSTART;TZID=Europe/Warsaw:20220411T180000
DTEND;TZID=Europe/Warsaw:20220411T190000
DTSTAMP:20260422T044754
CREATED:20220316T080751Z
LAST-MODIFIED:20220316T080751Z
UID:33801-1649700000-1649703600@osiedlemlodych.pl
SUMMARY:Dołącz do manufaktury\, szyjemy wielkanocne kury!
DESCRIPTION:Zapraszamy na rodzinne warsztaty w klimacie pracowni własnoręcznie szytych przytulanek. Podczas spotkania powstaną sensoryczne zabawki z materiału\, kolorami cieszące oko\, kojące zapachem kwiatów lawendy i zagadkowe w dotyku przez użycie różnych ziaren i antyalergicznego wypychacza. Spotkanie jest dedykowane również osobom\, które rozpoczynają przygodę z szyciem. \nRezerwacja i informacja: 61 879 47 15\, 695 151 856\, codzienne w godz. 16:00 – 20:00 \nDo zobaczenia
URL:https://osiedlemlodych.pl/wydarzenia/dolacz-do-manufaktury-szyjemy-wielkanocne-kury/
CATEGORIES:Klub Cybinka
ATTACH;FMTTYPE=image/png:https://osiedlemlodych.pl/wp-content/uploads/2022/03/zajrzyj-do-cybinki-warsztaty-kurki.png
END:VEVENT
END:VCALENDAR