BEGIN:VCALENDAR
VERSION:2.0
PRODID:-//Spółdzielnia Mieszkaniowa Osiedle Młodych - ECPv5.16.4//NONSGML v1.0//EN
CALSCALE:GREGORIAN
METHOD:PUBLISH
X-WR-CALNAME:Spółdzielnia Mieszkaniowa Osiedle Młodych
X-ORIGINAL-URL:https://osiedlemlodych.pl
X-WR-CALDESC:Wydarzenia dla Spółdzielnia Mieszkaniowa Osiedle Młodych
BEGIN:VTIMEZONE
TZID:Europe/Warsaw
BEGIN:DAYLIGHT
TZOFFSETFROM:+0100
TZOFFSETTO:+0200
TZNAME:CEST
DTSTART:20240331T010000
END:DAYLIGHT
BEGIN:STANDARD
TZOFFSETFROM:+0200
TZOFFSETTO:+0100
TZNAME:CET
DTSTART:20241027T010000
END:STANDARD
END:VTIMEZONE
BEGIN:VEVENT
DTSTART;TZID=Europe/Warsaw:20240308T160000
DTEND;TZID=Europe/Warsaw:20240308T190000
DTSTAMP:20260422T020516
CREATED:20240305T205436Z
LAST-MODIFIED:20240305T205436Z
UID:45468-1709913600-1709924400@osiedlemlodych.pl
SUMMARY:Dzień Kobiet w Klubie Seniora
DESCRIPTION:Członkowie Klubu Seniora\, którzy spotykają się w Cybince będą w najbliższy piątek świętować pewien wyjątkowy dzień 🥰 \nInformacje pod numerem 504 387 509 \n🌷🌷🌷
URL:https://osiedlemlodych.pl/wydarzenia/dzien-kobiet-w-klubie-seniora/
LOCATION:Klub „Cybinka”\, ul. Warszawska 93/95\, Poznań\, Wielkopolska\, 61-031\, Poland
CATEGORIES:Klub Cybinka
ATTACH;FMTTYPE=image/jpeg:https://osiedlemlodych.pl/wp-content/uploads/2024/03/dzien-kobiet-seniorzy.jpg
END:VEVENT
END:VCALENDAR