BEGIN:VCALENDAR
VERSION:2.0
PRODID:-//Spółdzielnia Mieszkaniowa Osiedle Młodych - ECPv5.16.4//NONSGML v1.0//EN
CALSCALE:GREGORIAN
METHOD:PUBLISH
X-WR-CALNAME:Spółdzielnia Mieszkaniowa Osiedle Młodych
X-ORIGINAL-URL:https://osiedlemlodych.pl
X-WR-CALDESC:Wydarzenia dla Spółdzielnia Mieszkaniowa Osiedle Młodych
BEGIN:VTIMEZONE
TZID:Europe/Warsaw
BEGIN:DAYLIGHT
TZOFFSETFROM:+0100
TZOFFSETTO:+0200
TZNAME:CEST
DTSTART:20240331T010000
END:DAYLIGHT
BEGIN:STANDARD
TZOFFSETFROM:+0200
TZOFFSETTO:+0100
TZNAME:CET
DTSTART:20241027T010000
END:STANDARD
END:VTIMEZONE
BEGIN:VEVENT
DTSTART;TZID=Europe/Warsaw:20240308T170000
DTEND;TZID=Europe/Warsaw:20240308T183000
DTSTAMP:20260422T053559
CREATED:20240301T162538Z
LAST-MODIFIED:20240301T162538Z
UID:45403-1709917200-1709922600@osiedlemlodych.pl
SUMMARY:Dzień Kobiet - warsztaty
DESCRIPTION:Spotkanie tylko dla Pań? Tak! Na Dzień Kobiet zapraszamy na przyjemne i pachnące warsztaty własnoręcznego tworzenia kosmetyków na domowe SPA  \nZapisy: tel. 61 876-08-40\, 601-781-065 (pon-pt 16.00-20.00)\,\ne-mail: jubilat@osiedlemlodych.pl
URL:https://osiedlemlodych.pl/wydarzenia/dzien-kobiet-warsztaty/
LOCATION:Dom Kultury „Jubilat”\, os. Tysiąclecia 30\, Poznań\, wielkopolskie\, 61-255\, Polska
CATEGORIES:Jubilat
ATTACH;FMTTYPE=image/jpeg:https://osiedlemlodych.pl/wp-content/uploads/2024/03/beautiful-girl-with-towel-using-beauty-product-min.jpg
END:VEVENT
END:VCALENDAR