BEGIN:VCALENDAR
VERSION:2.0
PRODID:-//Spółdzielnia Mieszkaniowa Osiedle Młodych - ECPv5.16.4//NONSGML v1.0//EN
CALSCALE:GREGORIAN
METHOD:PUBLISH
X-WR-CALNAME:Spółdzielnia Mieszkaniowa Osiedle Młodych
X-ORIGINAL-URL:https://osiedlemlodych.pl
X-WR-CALDESC:Wydarzenia dla Spółdzielnia Mieszkaniowa Osiedle Młodych
BEGIN:VTIMEZONE
TZID:Europe/Warsaw
BEGIN:DAYLIGHT
TZOFFSETFROM:+0100
TZOFFSETTO:+0200
TZNAME:CEST
DTSTART:20260329T010000
END:DAYLIGHT
BEGIN:STANDARD
TZOFFSETFROM:+0200
TZOFFSETTO:+0100
TZNAME:CET
DTSTART:20261025T010000
END:STANDARD
END:VTIMEZONE
BEGIN:VEVENT
DTSTART;TZID=Europe/Warsaw:20260306T170000
DTEND;TZID=Europe/Warsaw:20260306T170000
DTSTAMP:20260421T103121
CREATED:20260205T164144Z
LAST-MODIFIED:20260206T191112Z
UID:54828-1772816400-1772816400@osiedlemlodych.pl
SUMMARY:Dzień Kobiet z niespodzianką!
DESCRIPTION:Serdecznie zapraszamy wszystkie PANIE na „Dzień Kobiet z niespodzianką”.\nW tym roku\, podczas naszego spotkania w babskim gronie\, wyruszymy w inspirującą PODRÓŻ ZE SMAKIEM\, by odkryć tajemnice PRZYPRAW. \nNaszym przewodnikiem będzie Jędrzej Majka – podróżnik\, autor książek oraz programu telewizyjnego Na tropie przypraw. Nie zabraknie rozgrzewających historii\, aromatycznych niespodzianek oraz solidnej garści wiedzy. \nBezpłatne wejściówki do odbioru w DK „Polan STO” od 9 lutego 2026 r.\nod poniedziałku do piątku w godz. 16:00–20:00.\nW czasie ferii zimowych w godz. 7:30–10:00 oraz 14:00–15:30. \nWydarzenie realizowane w ramach projektu „Bliżej kultury\, bliżej siebie”\, dofinansowanego z budżetu Miasta Poznania.
URL:https://osiedlemlodych.pl/wydarzenia/dzien-kobiet-z-niespodzianka-5/
LOCATION:DK „Polan Sto”
CATEGORIES:Polan Sto
ATTACH;FMTTYPE=image/png:https://osiedlemlodych.pl/wp-content/uploads/2026/02/darmowe-fotki1.png
END:VEVENT
END:VCALENDAR