BEGIN:VCALENDAR
VERSION:2.0
PRODID:-//Spółdzielnia Mieszkaniowa Osiedle Młodych - ECPv5.16.4//NONSGML v1.0//EN
CALSCALE:GREGORIAN
METHOD:PUBLISH
X-WR-CALNAME:Spółdzielnia Mieszkaniowa Osiedle Młodych
X-ORIGINAL-URL:https://osiedlemlodych.pl
X-WR-CALDESC:Wydarzenia dla Spółdzielnia Mieszkaniowa Osiedle Młodych
BEGIN:VTIMEZONE
TZID:Europe/Warsaw
BEGIN:DAYLIGHT
TZOFFSETFROM:+0100
TZOFFSETTO:+0200
TZNAME:CEST
DTSTART:20230326T010000
END:DAYLIGHT
BEGIN:STANDARD
TZOFFSETFROM:+0200
TZOFFSETTO:+0100
TZNAME:CET
DTSTART:20231029T010000
END:STANDARD
END:VTIMEZONE
BEGIN:VEVENT
DTSTART;TZID=Europe/Warsaw:20230206T110000
DTEND;TZID=Europe/Warsaw:20230210T123000
DTSTAMP:20260421T190737
CREATED:20230118T141328Z
LAST-MODIFIED:20230118T141328Z
UID:38352-1675681200-1676032200@osiedlemlodych.pl
SUMMARY:FERIE Z DRUKIEM 3D
DESCRIPTION:Pracownia Aktywator Sztuki  zaprasza na FERIE Z DRUKIEM 3D!!!\n\n\n \n\n\nPodczas kursu:\n\n\n🔵uczestnicy poznają obsługę programu graficznego Blender\,\n\n\n🟣stworzą swój projekt\,\n\n\n🟢poznają program kompatybilny z drukarką 3D Ultimaker Cura\,\n\n\n🟡wydrukują na drukarce 3D swoją pracę.\n\n\n \n\n\nZajęcia skierowane są do dzieci i młodzieży w wieku od 12 lat. \n\n\nMaksymalna ilość uczestników: 10 os. \n\n\n \n\n\n📆6.02.23 – 10.02.23\n\n\n⏰11:00-12:30 \n\n\n🏫Klub Mieszko\, os. Lecha 129\n\n\n💰Koszt: 300 zł za kurs/osoba (dla posiadających swój laptop 250 zł)\n\n\n \n\n\nWymagania sprzętowe: \n\n\ndla Windows: 10 lub nowszy\, dla Apple: macOS 10.14 Mojave lub nowszy\, najlepiej dedykowana karta graficzna.\n\n\n \n\n\n📞Informacje i zapisy: 603 999 502
URL:https://osiedlemlodych.pl/wydarzenia/ferie-z-drukiem-3d/
LOCATION:Klub Mieszko\, Os. Lecha 129
CATEGORIES:Orle Gniazdo
ATTACH;FMTTYPE=image/png:https://osiedlemlodych.pl/wp-content/uploads/2023/01/druk-3d-2.png
END:VEVENT
END:VCALENDAR