BEGIN:VCALENDAR
VERSION:2.0
PRODID:-//Spółdzielnia Mieszkaniowa Osiedle Młodych - ECPv5.16.4//NONSGML v1.0//EN
CALSCALE:GREGORIAN
METHOD:PUBLISH
X-WR-CALNAME:Spółdzielnia Mieszkaniowa Osiedle Młodych
X-ORIGINAL-URL:https://osiedlemlodych.pl
X-WR-CALDESC:Wydarzenia dla Spółdzielnia Mieszkaniowa Osiedle Młodych
BEGIN:VTIMEZONE
TZID:Europe/Warsaw
BEGIN:DAYLIGHT
TZOFFSETFROM:+0100
TZOFFSETTO:+0200
TZNAME:CEST
DTSTART:20250330T010000
END:DAYLIGHT
BEGIN:STANDARD
TZOFFSETFROM:+0200
TZOFFSETTO:+0100
TZNAME:CET
DTSTART:20251026T010000
END:STANDARD
END:VTIMEZONE
BEGIN:VEVENT
DTSTART;TZID=Europe/Warsaw:20250526T173000
DTEND;TZID=Europe/Warsaw:20250526T193000
DTSTAMP:20260421T104143
CREATED:20250508T144310Z
LAST-MODIFIED:20250508T144310Z
UID:51299-1748280600-1748287800@osiedlemlodych.pl
SUMMARY:Gala Młodzieżowej Akademii Tańca z okazji Dnia Mamy
DESCRIPTION:Zapraszamy serdecznie na galę Młodzieżowej Akademii Tańca\, na której wszystkie zespoły wystąpią z tegorocznymi choreografiami\, dzięki którym stawały na podiach turniejów tanecznych.
URL:https://osiedlemlodych.pl/wydarzenia/gala-mlodziezowej-akademii-tanca-z-okazji-dnia-mamy-2/
LOCATION:Dom Kultury „Jubilat”\, os. Tysiąclecia 30\, Poznań\, wielkopolskie\, 61-255\, Polska
CATEGORIES:Jubilat
ATTACH;FMTTYPE=image/jpeg:https://osiedlemlodych.pl/wp-content/uploads/2025/05/ctgb7366.jpg
END:VEVENT
END:VCALENDAR