BEGIN:VCALENDAR
VERSION:2.0
PRODID:-//Spółdzielnia Mieszkaniowa Osiedle Młodych - ECPv5.16.4//NONSGML v1.0//EN
CALSCALE:GREGORIAN
METHOD:PUBLISH
X-WR-CALNAME:Spółdzielnia Mieszkaniowa Osiedle Młodych
X-ORIGINAL-URL:https://osiedlemlodych.pl
X-WR-CALDESC:Wydarzenia dla Spółdzielnia Mieszkaniowa Osiedle Młodych
BEGIN:VTIMEZONE
TZID:Europe/Warsaw
BEGIN:DAYLIGHT
TZOFFSETFROM:+0100
TZOFFSETTO:+0200
TZNAME:CEST
DTSTART:20240331T010000
END:DAYLIGHT
BEGIN:STANDARD
TZOFFSETFROM:+0200
TZOFFSETTO:+0100
TZNAME:CET
DTSTART:20241027T010000
END:STANDARD
END:VTIMEZONE
BEGIN:VEVENT
DTSTART;TZID=Europe/Warsaw:20240520T180000
DTEND;TZID=Europe/Warsaw:20240520T180000
DTSTAMP:20260421T181114
CREATED:20240430T141041Z
LAST-MODIFIED:20240430T141041Z
UID:46477-1716228000-1716228000@osiedlemlodych.pl
SUMMARY:Gala Młodzieżowej Akademii Tańca z okazji Dnia Mamy
DESCRIPTION:Zapraszamy na niezapomniane widowisko taneczne w wykonaniu Młodzieżowej Akademii Tańca\, która w tym sezonie może się pochwalić licznymi sukcesami artystycznymi na turniejach. \nW skład Akademii wchodzą zespoły: Mini Step\, Stage Dance oraz Step Dance\, których instruktorem i choreografką jest Kinga Staut. \nBezpłatne wejściówki do odbioru w biurze DK „Jubilat” od poniedziałku do piątku w godzinach 16.00-20.00.
URL:https://osiedlemlodych.pl/wydarzenia/gala-mlodziezowej-akademii-tanca-z-okazji-dnia-mamy/
LOCATION:Dom Kultury „Jubilat”\, os. Tysiąclecia 30\, Poznań\, wielkopolskie\, 61-255\, Polska
CATEGORIES:Jubilat
ATTACH;FMTTYPE=image/jpeg:https://osiedlemlodych.pl/wp-content/uploads/2024/04/taniec.jpg
END:VEVENT
END:VCALENDAR