BEGIN:VCALENDAR
VERSION:2.0
PRODID:-//Spółdzielnia Mieszkaniowa Osiedle Młodych - ECPv5.16.4//NONSGML v1.0//EN
CALSCALE:GREGORIAN
METHOD:PUBLISH
X-WR-CALNAME:Spółdzielnia Mieszkaniowa Osiedle Młodych
X-ORIGINAL-URL:https://osiedlemlodych.pl
X-WR-CALDESC:Wydarzenia dla Spółdzielnia Mieszkaniowa Osiedle Młodych
BEGIN:VTIMEZONE
TZID:Europe/Warsaw
BEGIN:DAYLIGHT
TZOFFSETFROM:+0100
TZOFFSETTO:+0200
TZNAME:CEST
DTSTART:20250330T010000
END:DAYLIGHT
BEGIN:STANDARD
TZOFFSETFROM:+0200
TZOFFSETTO:+0100
TZNAME:CET
DTSTART:20251026T010000
END:STANDARD
END:VTIMEZONE
BEGIN:VEVENT
DTSTART;TZID=Europe/Warsaw:20250607T180000
DTEND;TZID=Europe/Warsaw:20250607T193000
DTSTAMP:20260421T163620
CREATED:20250505T162331Z
LAST-MODIFIED:20250505T162331Z
UID:51250-1749319200-1749324600@osiedlemlodych.pl
SUMMARY:Gala Wokalna "Miłość nie jedno ma imię"
DESCRIPTION:W programie twórczość takich kompozytorów jak: W.A. Mozart\, St. Moniuszko\, G. Puccini\, G. Verdi i inni. \n  \nWykonawcy – studenci i pedagodzy Instytutu Wokalistyki Akademii Muzycznej w Poznaniu: \nsoprany: Prus Julia\, Yingxi Zhang\, \nmezzosoprany:  Yueming Lu\, Zembrzycka Dominika \ntenor: Michał Lasoń \nfortepian: dr Kinga Książczyk \n  \nOpracowanie\, koncepcja\, prowadzenie projektu edukacyjnego: prof. dr hab. Anna Jeremus-Lewandowska \n  \nOrganizatorzy: \n– Akademia Muzyczna im. I.J. Paderewskiego w Poznaniu\, Instytut Wokalistyki\, \n– Dom Kultury Orle Gniazdo \n  \nPo odbiór BEZPŁATNYCH WEJŚCIÓWEK zapraszamy do Domu Kultury „Orle Gniazdo” od pon. do pt. w godz. 10:00-20:00.
URL:https://osiedlemlodych.pl/wydarzenia/gala-wokalna-milosc-nie-jedno-ma-imie/
LOCATION:Dom Kultury „Orle Gniazdo”\, os. Lecha 43\, Poznań\, Wielkopolskie\, 61-294\, Polska
CATEGORIES:Orle Gniazdo
ATTACH;FMTTYPE=image/jpeg:https://osiedlemlodych.pl/wp-content/uploads/2025/05/20250408-173323.jpg
END:VEVENT
END:VCALENDAR