BEGIN:VCALENDAR
VERSION:2.0
PRODID:-//Spółdzielnia Mieszkaniowa Osiedle Młodych - ECPv5.16.4//NONSGML v1.0//EN
CALSCALE:GREGORIAN
METHOD:PUBLISH
X-WR-CALNAME:Spółdzielnia Mieszkaniowa Osiedle Młodych
X-ORIGINAL-URL:https://osiedlemlodych.pl
X-WR-CALDESC:Wydarzenia dla Spółdzielnia Mieszkaniowa Osiedle Młodych
BEGIN:VTIMEZONE
TZID:Europe/Warsaw
BEGIN:DAYLIGHT
TZOFFSETFROM:+0100
TZOFFSETTO:+0200
TZNAME:CEST
DTSTART:20230326T010000
END:DAYLIGHT
BEGIN:STANDARD
TZOFFSETFROM:+0200
TZOFFSETTO:+0100
TZNAME:CET
DTSTART:20231029T010000
END:STANDARD
END:VTIMEZONE
BEGIN:VEVENT
DTSTART;TZID=Europe/Warsaw:20231210T180000
DTEND;TZID=Europe/Warsaw:20231210T190000
DTSTAMP:20260422T124452
CREATED:20231108T173628Z
LAST-MODIFIED:20231124T112417Z
UID:43723-1702231200-1702234800@osiedlemlodych.pl
SUMMARY:"Gdy błyśnie pierwsza gwiazda" - koncert świąteczny
DESCRIPTION:Gorąco zapraszamy na klimatyczny koncert\, podczas którego artyści postarają się wprowadzić wszystkich w niezwykły\, bożonarodzeniowy czas.\nW programie znajdą się pastorałki\, covery oraz rodzime wersje popularnych szlagierów w autorskich aranżacjach\, a także\, cieszące się rosnącą popularnością\, polskie\, świąteczne przeboje. \nWystąpią:\nMarek Kraśkiewicz\nKatarzyna Stroińska-Sierant\nJarosław Sierant \nBilety w cenie 20 zł można nabyć w biurze Domu Kultury „Jędruś” od 20 listopada br.
URL:https://osiedlemlodych.pl/wydarzenia/gdy-blysnie-pierwsza-gwiazda-koncert-swiateczny/
LOCATION:Dom Kultury „Jędruś”\, os. Armii Krajowej 101\, Poznań\, Wielkopolskie\, 61-381\, Polska
CATEGORIES:Jędruś
ATTACH;FMTTYPE=image/png:https://osiedlemlodych.pl/wp-content/uploads/2023/11/gdy-blysnie-pierwsza-gwiazda.png
END:VEVENT
END:VCALENDAR