BEGIN:VCALENDAR
VERSION:2.0
PRODID:-//Spółdzielnia Mieszkaniowa Osiedle Młodych - ECPv5.16.4//NONSGML v1.0//EN
CALSCALE:GREGORIAN
METHOD:PUBLISH
X-WR-CALNAME:Spółdzielnia Mieszkaniowa Osiedle Młodych
X-ORIGINAL-URL:https://osiedlemlodych.pl
X-WR-CALDESC:Wydarzenia dla Spółdzielnia Mieszkaniowa Osiedle Młodych
BEGIN:VTIMEZONE
TZID:Europe/Warsaw
BEGIN:DAYLIGHT
TZOFFSETFROM:+0100
TZOFFSETTO:+0200
TZNAME:CEST
DTSTART:20240331T010000
END:DAYLIGHT
BEGIN:STANDARD
TZOFFSETFROM:+0200
TZOFFSETTO:+0100
TZNAME:CET
DTSTART:20241027T010000
END:STANDARD
END:VTIMEZONE
BEGIN:VEVENT
DTSTART;TZID=Europe/Warsaw:20241120T150000
DTEND;TZID=Europe/Warsaw:20241120T190000
DTSTAMP:20260421T172310
CREATED:20231011T191532Z
LAST-MODIFIED:20241117T165049Z
UID:43298-1732114800-1732129200@osiedlemlodych.pl
SUMMARY:Gitara & ukulele
DESCRIPTION:Zapraszamy do udziału w zajęciach\, podczas których idą w ruch gitary i ukulele! 🎸🎶 \nUczymy się od podstaw gry na gitarze i ukulele. Są to zajęcia kierowane dla dzieci od lat 6\, młodzieży oraz dorosłych. Wpływają one szeroko na rozwój muzyczny uczestników\, rozwijają manualnie\, głosowo\, poprawiają motorykę\, wpływają na relacje z rówieśnikami\, działają motywująco i podwyższają samoocenę\, relaksują i pozwalają cieszyć się z wykonanych zadań. \nZajęcia odbywają się raz w tygodniu w kameralnych grupach\, nie jest wymagana znajomość nut. \n  \nKonkrety: \n🎸 Terminy: środy między 15:00 a 19:00 – ustalenia indywidualne z prowadzącym. \n🎸 Wiek: dzieci od lat 6.\, młodzież i dorośli (podział na grupy wiekowe) \n🎸 Zapisy i informacje: Bartosz Chraplewski 795-930-130 \n\nFacebook: Ukulele & Gitara \n🎸 Koszt: 50 zł/h. Dla rodzeństw 50% zniżki! \n  \n\nNie czekaj\, dołącz do naszej szarrrrpiącej ekipy! 🥰 🎸 \n\n \n﻿﻿ \n 
URL:https://osiedlemlodych.pl/wydarzenia/gitara-i-ukulele/
LOCATION:Klub „Cybinka”\, ul. Warszawska 93/95\, Poznań\, Wielkopolska\, 61-031\, Poland
CATEGORIES:Klub Cybinka
ATTACH;FMTTYPE=image/jpeg:https://osiedlemlodych.pl/wp-content/uploads/2023/11/nauka-gry-na-gitarze-ukulele-kafelek-popr.jpg
END:VEVENT
END:VCALENDAR