BEGIN:VCALENDAR
VERSION:2.0
PRODID:-//Spółdzielnia Mieszkaniowa Osiedle Młodych - ECPv5.16.4//NONSGML v1.0//EN
CALSCALE:GREGORIAN
METHOD:PUBLISH
X-WR-CALNAME:Spółdzielnia Mieszkaniowa Osiedle Młodych
X-ORIGINAL-URL:https://osiedlemlodych.pl
X-WR-CALDESC:Wydarzenia dla Spółdzielnia Mieszkaniowa Osiedle Młodych
BEGIN:VTIMEZONE
TZID:Europe/Warsaw
BEGIN:DAYLIGHT
TZOFFSETFROM:+0100
TZOFFSETTO:+0200
TZNAME:CEST
DTSTART:20240331T010000
END:DAYLIGHT
BEGIN:STANDARD
TZOFFSETFROM:+0200
TZOFFSETTO:+0100
TZNAME:CET
DTSTART:20241027T010000
END:STANDARD
END:VTIMEZONE
BEGIN:VEVENT
DTSTART;TZID=Europe/Warsaw:20240525T180000
DTEND;TZID=Europe/Warsaw:20240525T193000
DTSTAMP:20260422T123043
CREATED:20240430T090106Z
LAST-MODIFIED:20240430T090106Z
UID:46456-1716660000-1716665400@osiedlemlodych.pl
SUMMARY:Głęboki wdech - koncert relaksacyjny
DESCRIPTION:Wraz z Darią Rakoczy\, której misją jest inspirowanie innych i pokazanie jak można spędzić czas aktywnie i kreatywnie\, zachęcamy Państwa do udziału w koncercie muzyki relaksacyjnej w częstotliwości 432 Hz – „Głęboki wdech”. Czeka na Was wyjątkowe doświadczenie dźwiękowe\, które wprowadza słuchaczy w stan głębokiej relaksacji i harmonii. Koncert będzie doskonałym sposobem na oderwanie się od codziennego zgiełku i znalezienie wewnętrznego spokoju. Ubierzcie się zatem w wygodny strój\, zabierzcie koc\, poduszkę\, by w pełni odpocząć. \nWydarzenie odbędzie się w ramach projektu „Bliżej Kultury\, Bliżej Siebie”\, którego organizatorem jest Stowarzyszenie Ratajskie Centrum Kultury\, a sfinansowane zostało ze środków budżetowych Miasta Poznania. \nWstęp na koncert jest bezpłatny\, ale obowiązują zapisy osobiste lub telefoniczne (61 877 01 51). \n#poznanwspiera
URL:https://osiedlemlodych.pl/wydarzenia/gleboki-wdech-koncert-relaksacyjny/
LOCATION:Dom Kultury „Jędruś”\, os. Armii Krajowej 101\, Poznań\, Wielkopolskie\, 61-381\, Polska
CATEGORIES:Jędruś
ATTACH;FMTTYPE=image/jpeg:https://osiedlemlodych.pl/wp-content/uploads/2024/02/img-20220919-wa0001.jpg
END:VEVENT
END:VCALENDAR