BEGIN:VCALENDAR
VERSION:2.0
PRODID:-//Spółdzielnia Mieszkaniowa Osiedle Młodych - ECPv5.16.4//NONSGML v1.0//EN
CALSCALE:GREGORIAN
METHOD:PUBLISH
X-WR-CALNAME:Spółdzielnia Mieszkaniowa Osiedle Młodych
X-ORIGINAL-URL:https://osiedlemlodych.pl
X-WR-CALDESC:Wydarzenia dla Spółdzielnia Mieszkaniowa Osiedle Młodych
BEGIN:VTIMEZONE
TZID:Europe/Warsaw
BEGIN:DAYLIGHT
TZOFFSETFROM:+0100
TZOFFSETTO:+0200
TZNAME:CEST
DTSTART:20240331T010000
END:DAYLIGHT
BEGIN:STANDARD
TZOFFSETFROM:+0200
TZOFFSETTO:+0100
TZNAME:CET
DTSTART:20241027T010000
END:STANDARD
END:VTIMEZONE
BEGIN:VEVENT
DTSTART;TZID=Europe/Warsaw:20240322T160000
DTEND;TZID=Europe/Warsaw:20240322T193000
DTSTAMP:20260422T124913
CREATED:20240207T153528Z
LAST-MODIFIED:20240208T092348Z
UID:44962-1711123200-1711135800@osiedlemlodych.pl
SUMMARY:Gotowanie na POLANie - Wielkanocne wypieki
DESCRIPTION:I znów nam się upiecze!\nTylko co?\nWielkanocne baby? Słodkie mazurki? Ciasteczka marchewkowe? Muffinki?\nA może serniczek? Cokolwiek wybierzemy będzie słodko\, pysznie i odświętnie!\nOch\, ach i palce lizać! Mniam!\nZapraszamy serdecznie dzieci w wieku 6-12 lat na wielkanocne warsztaty kulinarne! \n22.03.2024 godz.16:00 i 18:00\nKoszt: 50 zł\nZapisy w DK „Polan STO”\, od pn. do pt. w godz. 16:00 – 20:00.
URL:https://osiedlemlodych.pl/wydarzenia/gotowanie-na-polanie-wielkanocne-wypieki/
CATEGORIES:Polan Sto
ATTACH;FMTTYPE=image/png:https://osiedlemlodych.pl/wp-content/uploads/2024/02/zdjecie-strona6.png
END:VEVENT
END:VCALENDAR