BEGIN:VCALENDAR
VERSION:2.0
PRODID:-//Spółdzielnia Mieszkaniowa Osiedle Młodych - ECPv5.16.4//NONSGML v1.0//EN
CALSCALE:GREGORIAN
METHOD:PUBLISH
X-WR-CALNAME:Spółdzielnia Mieszkaniowa Osiedle Młodych
X-ORIGINAL-URL:https://osiedlemlodych.pl
X-WR-CALDESC:Wydarzenia dla Spółdzielnia Mieszkaniowa Osiedle Młodych
BEGIN:VTIMEZONE
TZID:Europe/Warsaw
BEGIN:DAYLIGHT
TZOFFSETFROM:+0100
TZOFFSETTO:+0200
TZNAME:CEST
DTSTART:20250330T010000
END:DAYLIGHT
BEGIN:STANDARD
TZOFFSETFROM:+0200
TZOFFSETTO:+0100
TZNAME:CET
DTSTART:20251026T010000
END:STANDARD
END:VTIMEZONE
BEGIN:VEVENT
DTSTART;VALUE=DATE:20250126
DTEND;VALUE=DATE:20250127
DTSTAMP:20260421T192734
CREATED:20241230T115924Z
LAST-MODIFIED:20250113T150527Z
UID:49354-1737849600-1737935999@osiedlemlodych.pl
SUMMARY:Ratajski Finał WOŚP - Gramy dla onkologii i hematologii dziecięcej
DESCRIPTION:Wszystkie ręce na pokład! \nSpółdzielnia Mieszkaniowa „Osiedle Młodych w Poznaniu” już 21 raz zagra z Najpiękniejszą Orkiestrą Świata! Nasz Ratajski Sztab Wielkiej Orkiestry Świątecznej Pomocy zbiera siły do działania. 26 stycznia 2025 roku w Domu Kultury „Jędruś” gramy dla onkologii i hematologii dziecięcej a hasłem przewodnim 33 finału jest bezpieczeństwo i zdrowie dzieci. \nGraj z nami podczas finału! W programie: \n\n14:00 Koncert malwami malowany – tańce regionalne w wykonaniu Zespółu Tańca Ludowego Staropolanie Wielkopolska\n14:30 Umiem nieść pomoc\, ratuję życie – pokaz i warsztaty pierwszej pomocy\n15:00 Rap nawijka – koncert Kuby Mrozka Kubeusa\n15:20 O miłości w musicalowej odsłonie – koncert aktorów Teatru Spectart\n16:00 Młody DJ\, zastrzyk energii – set DJ Deyme\n16:20 Muzyczna podróż z chórem kameralnym – koncert chóru Poznańskie Senioritki\n16:40 Muzyka pełna pasji – występ uczniów Szkoły Muzycznej T.Burton\n17:10 Elegancja w ruchu – pokaz tańca towarzyskiego Szkoły Tańca Maestro\n17:20 Młodzi artyści\, wielkie brzmienia – występ uczniów Szkoły Muzycznej T.Burton\n17:50 Energetyczny show – pokaz tańca i cheerleadingu Kolejorz Girls\, Juniors i Kids\n18:15 Moc dźwięków – koncert kwintetu instrumentalnego Zespółu kameralnego Capella Canta Brass\n18:30 Licytacja – graj\, wygrywaj\, pomagaj!\n19:50 Hymn WOŚP na żywo – Zespół kameralny Capella Canta Brass\n20:00 Zaświećmy nasze serca – Światełko do nieba Duet WhiteNight\n\n  \nWiemy\, że na naszym fyrtlu rąk gotowych do pomocy nie zabraknie. Szczegółowe informacje dotyczące 33. Finału WOŚP systematycznie będą zamieszczane na stronie internetowej Spółdzielni oraz fanpage’u facebookowym. \n 
URL:https://osiedlemlodych.pl/wydarzenia/gramy-dla-onkologii-i-hematologii-dzieciecej/
LOCATION:Dom Kultury „Jędruś”\, os. Armii Krajowej 101\, Poznań\, Wielkopolskie\, 61-381\, Polska
CATEGORIES:Jagiellonka,Jędruś,Jubilat,Klub Cybinka,Na pięterku,Na Skarpie,Orle Gniazdo,Olimpiada Sportowa Osób Niepełnosprawnych,Polan Sto,Placówki Kulturalne "Na Rusa",DOMY KULTURY,Dom harcerza Skaut
ATTACH;FMTTYPE=image/jpeg:https://osiedlemlodych.pl/wp-content/uploads/2024/12/artykul-wosp-min11.jpg
END:VEVENT
END:VCALENDAR