BEGIN:VCALENDAR
VERSION:2.0
PRODID:-//Spółdzielnia Mieszkaniowa Osiedle Młodych - ECPv5.16.4//NONSGML v1.0//EN
CALSCALE:GREGORIAN
METHOD:PUBLISH
X-WR-CALNAME:Spółdzielnia Mieszkaniowa Osiedle Młodych
X-ORIGINAL-URL:https://osiedlemlodych.pl
X-WR-CALDESC:Wydarzenia dla Spółdzielnia Mieszkaniowa Osiedle Młodych
BEGIN:VTIMEZONE
TZID:Europe/Warsaw
BEGIN:DAYLIGHT
TZOFFSETFROM:+0100
TZOFFSETTO:+0200
TZNAME:CEST
DTSTART:20250330T010000
END:DAYLIGHT
BEGIN:STANDARD
TZOFFSETFROM:+0200
TZOFFSETTO:+0100
TZNAME:CET
DTSTART:20251026T010000
END:STANDARD
END:VTIMEZONE
BEGIN:VEVENT
DTSTART;TZID=Europe/Warsaw:20251219T190000
DTEND;TZID=Europe/Warsaw:20251219T210000
DTSTAMP:20260422T002851
CREATED:20251208T161536Z
LAST-MODIFIED:20251209T093421Z
UID:54196-1766170800-1766178000@osiedlemlodych.pl
SUMMARY:II Charytatywny Koncert Wigilijny
DESCRIPTION:W okresie świątecznym nic tak nie rozgrzewa\, jak poczucie wspólnoty i bezpieczeństwa. Jeszcze w tym roku zapraszamy na II Charytatywny Koncert Wigilijny organizowany przez prężnie działającą grupę młodzieżową NIEletni K5N przy współpracy z Domem Kultury „Orle Gniazdo”. W programie zaplanowano występy zespołów muzycznych Piotra Wizy; Zosi Nurkiewicz\, Ani Makowskiej\, zespołu tanecznego Raj Seniora oraz grupy młodzieżowej NIEletni K5N.  \n To będzie piękne wydarzenie w kilku wymiarach: przede wszystkim robimy coś dobrego wspierając Hospicjum Palium\, gdzie promienie nadziei zawsze są potrzebne. Po drugie to budowanie społeczności\, wartościowe refleksje\, międzypokoleniowe spotkania i młodzież\, która realizuje się w twórczym działaniu. A po trzecie to wyjątkowy repertuar\, który poruszy każdego i dobrze nastroi na Święta Bożego Narodzenia. Otwórzmy nasze serca 19 grudnia i pozwólmy sobie na przyjęcie przed-wigilijnego przytulenia.  \nW trakcie koncertu będzie można wziąć udział w dodatkowej zbiórce na rzecz Hospicjum Palium\, odbędzie się także mini kiermasz\, z którego 20% dochodu idzie na cel charytatywny. \nBilety w postaci cegiełek przeznaczonych na rzecz Hospicjum Palium do nabycia w dniu wydarzenia w DK „Orle Gniazdo”.  \nBilet ulgowy (dzieci\, studenci\, seniorzy pow. 65 r.ż.): 15 zł  \nBilet normalny: 30 zł  \nNie jest wymagana wcześniejsza rezerwacja biletów. \n  \n  \n 
URL:https://osiedlemlodych.pl/wydarzenia/ii-charytatywny-koncert-wigilijny/
LOCATION:Dom Kultury „Orle Gniazdo”\, os. Lecha 43\, Poznań\, Wielkopolskie\, 61-294\, Polska
CATEGORIES:Orle Gniazdo
ATTACH;FMTTYPE=image/jpeg:https://osiedlemlodych.pl/wp-content/uploads/2025/12/bez-nazwy.jpg
END:VEVENT
END:VCALENDAR