BEGIN:VCALENDAR
VERSION:2.0
PRODID:-//Spółdzielnia Mieszkaniowa Osiedle Młodych - ECPv5.16.4//NONSGML v1.0//EN
CALSCALE:GREGORIAN
METHOD:PUBLISH
X-WR-CALNAME:Spółdzielnia Mieszkaniowa Osiedle Młodych
X-ORIGINAL-URL:https://osiedlemlodych.pl
X-WR-CALDESC:Wydarzenia dla Spółdzielnia Mieszkaniowa Osiedle Młodych
BEGIN:VTIMEZONE
TZID:Europe/Warsaw
BEGIN:DAYLIGHT
TZOFFSETFROM:+0100
TZOFFSETTO:+0200
TZNAME:CEST
DTSTART:20250330T010000
END:DAYLIGHT
BEGIN:STANDARD
TZOFFSETFROM:+0200
TZOFFSETTO:+0100
TZNAME:CET
DTSTART:20251026T010000
END:STANDARD
END:VTIMEZONE
BEGIN:VEVENT
DTSTART;TZID=Europe/Warsaw:20250505T090000
DTEND;TZID=Europe/Warsaw:20250508T120000
DTSTAMP:20260421T180529
CREATED:20250415T132428Z
LAST-MODIFIED:20250415T132428Z
UID:51033-1746435600-1746705600@osiedlemlodych.pl
SUMMARY:Intensywny kurs komputerowy dla seniorów
DESCRIPTION:Nauka podstawowych umiejętności z obsługi komputera dla początkujących seniorów i zapoznanie się z nowoczesnymi technologiami w formie 30-godzinnego\, intensywnego kursu na laptopach.  Organizator zapewnia sprzęt komputerowy. \nTerminy spotkań: 5-8.05.2025\, 12-15.05.2025\, 19-20.05.2025 w godzinach 9.00-12.00.\nKoszt: 15 zł / lekcja 45 min. \nLiczba miejsc ograniczona. Obowiązują zapisy telefoniczne – tel. 605 828 857.
URL:https://osiedlemlodych.pl/wydarzenia/intensywny-kurs-komputerowy-dla-seniorow/
LOCATION:Dom Kultury „Jędruś”\, os. Armii Krajowej 101\, Poznań\, Wielkopolskie\, 61-381\, Polska
CATEGORIES:Jędruś
ATTACH;FMTTYPE=image/jpeg:https://osiedlemlodych.pl/wp-content/uploads/2022/10/osoba-korzysta-z-laptopa-do-pracy.jpg
END:VEVENT
END:VCALENDAR