BEGIN:VCALENDAR
VERSION:2.0
PRODID:-//Spółdzielnia Mieszkaniowa Osiedle Młodych - ECPv5.16.4//NONSGML v1.0//EN
CALSCALE:GREGORIAN
METHOD:PUBLISH
X-WR-CALNAME:Spółdzielnia Mieszkaniowa Osiedle Młodych
X-ORIGINAL-URL:https://osiedlemlodych.pl
X-WR-CALDESC:Wydarzenia dla Spółdzielnia Mieszkaniowa Osiedle Młodych
BEGIN:VTIMEZONE
TZID:Europe/Warsaw
BEGIN:DAYLIGHT
TZOFFSETFROM:+0100
TZOFFSETTO:+0200
TZNAME:CEST
DTSTART:20250330T010000
END:DAYLIGHT
BEGIN:STANDARD
TZOFFSETFROM:+0200
TZOFFSETTO:+0100
TZNAME:CET
DTSTART:20251026T010000
END:STANDARD
END:VTIMEZONE
BEGIN:VEVENT
DTSTART;TZID=Europe/Warsaw:20250110T190000
DTEND;TZID=Europe/Warsaw:20250110T203000
DTSTAMP:20260421T225141
CREATED:20250109T143107Z
LAST-MODIFIED:20250109T143107Z
UID:49483-1736535600-1736541000@osiedlemlodych.pl
SUMMARY:Jasełka Zespołu Tańca Ludowego Staropolanie-Wielkopolska
DESCRIPTION:W ramach imprez towarzyszących Wielkiej Orkiestry Świątecznej Pomocy Zespół Tańca Ludowego Staropolanie-Wielkoplska wystąpi z wyjątkowym spektaklem jasełkowym zatytułowanym „Kolędujemy razem na góralska nutę.
URL:https://osiedlemlodych.pl/wydarzenia/jaselka-zespolu-tanca-ludowego-staropolanie-wielkopolska/
LOCATION:Dom Kultury „Jubilat”\, os. Tysiąclecia 30\, Poznań\, wielkopolskie\, 61-255\, Polska
CATEGORIES:Jubilat
ATTACH;FMTTYPE=image/jpeg:https://osiedlemlodych.pl/wp-content/uploads/2025/01/wosp-2025-wydarzenia-towarzyszace-kopia.jpg
END:VEVENT
END:VCALENDAR