BEGIN:VCALENDAR
VERSION:2.0
PRODID:-//Spółdzielnia Mieszkaniowa Osiedle Młodych - ECPv5.16.4//NONSGML v1.0//EN
CALSCALE:GREGORIAN
METHOD:PUBLISH
X-WR-CALNAME:Spółdzielnia Mieszkaniowa Osiedle Młodych
X-ORIGINAL-URL:https://osiedlemlodych.pl
X-WR-CALDESC:Wydarzenia dla Spółdzielnia Mieszkaniowa Osiedle Młodych
BEGIN:VTIMEZONE
TZID:Europe/Warsaw
BEGIN:DAYLIGHT
TZOFFSETFROM:+0100
TZOFFSETTO:+0200
TZNAME:CEST
DTSTART:20240331T010000
END:DAYLIGHT
BEGIN:STANDARD
TZOFFSETFROM:+0200
TZOFFSETTO:+0100
TZNAME:CET
DTSTART:20241027T010000
END:STANDARD
END:VTIMEZONE
BEGIN:VEVENT
DTSTART;TZID=Europe/Warsaw:20241219T140000
DTEND;TZID=Europe/Warsaw:20241219T150000
DTSTAMP:20260422T111843
CREATED:20241216T151937Z
LAST-MODIFIED:20241216T151937Z
UID:49224-1734616800-1734620400@osiedlemlodych.pl
SUMMARY:Jeden Bóg\, różnorodność zwyczajów - przedstawienie świąteczne
DESCRIPTION:Na świąteczne przedstawienie zapraszają uczniowie Szkoły Podstawowej nr 18 im. Zofii Nałkowskiej w Poznaniu.\nWstęp wolny!
URL:https://osiedlemlodych.pl/wydarzenia/jeden-bog-roznorodnosc-zwyczajow-przedstawienie-swiateczne/
CATEGORIES:DOMY KULTURY,Jędruś
ATTACH;FMTTYPE=image/jpeg:https://osiedlemlodych.pl/wp-content/uploads/2024/12/6460905.jpg
END:VEVENT
END:VCALENDAR