BEGIN:VCALENDAR
VERSION:2.0
PRODID:-//Spółdzielnia Mieszkaniowa Osiedle Młodych - ECPv5.16.4//NONSGML v1.0//EN
CALSCALE:GREGORIAN
METHOD:PUBLISH
X-WR-CALNAME:Spółdzielnia Mieszkaniowa Osiedle Młodych
X-ORIGINAL-URL:https://osiedlemlodych.pl
X-WR-CALDESC:Wydarzenia dla Spółdzielnia Mieszkaniowa Osiedle Młodych
BEGIN:VTIMEZONE
TZID:Europe/Warsaw
BEGIN:DAYLIGHT
TZOFFSETFROM:+0100
TZOFFSETTO:+0200
TZNAME:CEST
DTSTART:20250330T010000
END:DAYLIGHT
BEGIN:STANDARD
TZOFFSETFROM:+0200
TZOFFSETTO:+0100
TZNAME:CET
DTSTART:20251026T010000
END:STANDARD
END:VTIMEZONE
BEGIN:VEVENT
DTSTART;TZID=Europe/Warsaw:20250303T170000
DTEND;TZID=Europe/Warsaw:20250303T180000
DTSTAMP:20260423T002805
CREATED:20250220T161651Z
LAST-MODIFIED:20250220T161651Z
UID:50197-1741021200-1741024800@osiedlemlodych.pl
SUMMARY:Karnawał z Młodzieżową Akademią Tańca
DESCRIPTION:Młodzieżowa Akademia Tańca Domu Kultury „Jubilat” zaprasza dzieci w wieku 4-12 lat na wspaniałą zabawę taneczną połączoną z występem zespołu i wprowadzeniem w tajniki tańca. Można ubrać wymyślone stroje\, ulubionych bohaterów bajek i filmów. Czeka Was niesamowita przygoda! Serdecznie zapraszamy  Wstęp wolny 🙂
URL:https://osiedlemlodych.pl/wydarzenia/karnawal-z-mlodziezowa-akademia-tanca/
LOCATION:Dom Kultury „Jubilat”\, os. Tysiąclecia 30\, Poznań\, wielkopolskie\, 61-255\, Polska
CATEGORIES:Jubilat
ATTACH;FMTTYPE=image/png:https://osiedlemlodych.pl/wp-content/uploads/2025/02/projekt-bez-nazwy5.png
END:VEVENT
END:VCALENDAR