BEGIN:VCALENDAR
VERSION:2.0
PRODID:-//Spółdzielnia Mieszkaniowa Osiedle Młodych - ECPv5.16.4//NONSGML v1.0//EN
CALSCALE:GREGORIAN
METHOD:PUBLISH
X-WR-CALNAME:Spółdzielnia Mieszkaniowa Osiedle Młodych
X-ORIGINAL-URL:https://osiedlemlodych.pl
X-WR-CALDESC:Wydarzenia dla Spółdzielnia Mieszkaniowa Osiedle Młodych
BEGIN:VTIMEZONE
TZID:Europe/Warsaw
BEGIN:DAYLIGHT
TZOFFSETFROM:+0100
TZOFFSETTO:+0200
TZNAME:CEST
DTSTART:20250330T010000
END:DAYLIGHT
BEGIN:STANDARD
TZOFFSETFROM:+0200
TZOFFSETTO:+0100
TZNAME:CET
DTSTART:20251026T010000
END:STANDARD
END:VTIMEZONE
BEGIN:VEVENT
DTSTART;TZID=Europe/Warsaw:20250110T180000
DTEND;TZID=Europe/Warsaw:20250110T200000
DTSTAMP:20260422T002718
CREATED:20250102T135300Z
LAST-MODIFIED:20250102T185146Z
UID:49386-1736532000-1736539200@osiedlemlodych.pl
SUMMARY:Karnawałowa potańcówka Klubu Seniora
DESCRIPTION:Serdecznie zapraszamy członków Klubu Seniora „Cybinka” na karnawałową potańcówkę! \nSzczegóły: \n🎈piątek 10.01.2025. \n🎈18:00 – 20:00 \n🎈rezerwacja bezpłatnych miejsc: w biurze Klubu Cybinka \nWystąpią trzy wokalistki: Agata Woszczyk\, Alicja Kraszewska i Maria Bogusiewicz\, które specjalnie na ten wieczór przygotowały klasyki polskiej muzyki rozrywkowej\, takie jak: „Dmuchawce\, latawce\, wiatr”\, „Szukaj mnie”\, czy „Bądź moim natchnieniem”. \nZachęcamy do przywdziania karnawałowych kreacji balowych 🙃 i zapraszamy do wspólnej zabawy! 💃🕺🎈
URL:https://osiedlemlodych.pl/wydarzenia/karnawal2025/
LOCATION:Klub „Cybinka”\, ul. Warszawska 93/95\, Poznań\, Wielkopolska\, 61-031\, Poland
CATEGORIES:Klub Cybinka
ATTACH;FMTTYPE=image/jpeg:https://osiedlemlodych.pl/wp-content/uploads/2025/01/www-kafelek-popr.jpg
ORGANIZER;CN="Klub%20%22Cybinka%22":MAILTO:cybinka@osiedlemlodych.pl
END:VEVENT
END:VCALENDAR