BEGIN:VCALENDAR
VERSION:2.0
PRODID:-//Spółdzielnia Mieszkaniowa Osiedle Młodych - ECPv5.16.4//NONSGML v1.0//EN
CALSCALE:GREGORIAN
METHOD:PUBLISH
X-WR-CALNAME:Spółdzielnia Mieszkaniowa Osiedle Młodych
X-ORIGINAL-URL:https://osiedlemlodych.pl
X-WR-CALDESC:Wydarzenia dla Spółdzielnia Mieszkaniowa Osiedle Młodych
BEGIN:VTIMEZONE
TZID:Europe/Warsaw
BEGIN:DAYLIGHT
TZOFFSETFROM:+0100
TZOFFSETTO:+0200
TZNAME:CEST
DTSTART:20260329T010000
END:DAYLIGHT
BEGIN:STANDARD
TZOFFSETFROM:+0200
TZOFFSETTO:+0100
TZNAME:CET
DTSTART:20261025T010000
END:STANDARD
END:VTIMEZONE
BEGIN:VEVENT
DTSTART;TZID=Europe/Warsaw:20260117T170000
DTEND;TZID=Europe/Warsaw:20260117T220000
DTSTAMP:20260422T034631
CREATED:20241216T152646Z
LAST-MODIFIED:20251217T134054Z
UID:49227-1768669200-1768687200@osiedlemlodych.pl
SUMMARY:Karnawałowy bal maskowy
DESCRIPTION:Wraz z Klubem Seniora Tęcza oraz Restauracją Trojka mamy przyjemność zaprosić Państwa na Karnawałowy Bal Maskowy dla seniorów.\nW programie: \nzabawa taneczna przy muzyce na żywo\, konkurs na najbardziej oryginalne przebranie\, loteria fantowa itp.\nZimny bufet\, ciasto\, kawę\, herbatę i napoje zapewnia Restauracja Trojka. \nRezerwacja biletów: \nRestauracja Trojka\nos. Armii Krajowej 101\ntel. 618 618 772
URL:https://osiedlemlodych.pl/wydarzenia/karnawalowy-bal-maskowy/
LOCATION:Dom Kultury „Jędruś”\, os. Armii Krajowej 101\, Poznań\, Wielkopolskie\, 61-381\, Polska
CATEGORIES:DOMY KULTURY,Jędruś
ATTACH;FMTTYPE=image/jpeg:https://osiedlemlodych.pl/wp-content/uploads/2024/12/close-up-mask-confetti.jpg
END:VEVENT
END:VCALENDAR