BEGIN:VCALENDAR
VERSION:2.0
PRODID:-//Spółdzielnia Mieszkaniowa Osiedle Młodych - ECPv5.16.4//NONSGML v1.0//EN
CALSCALE:GREGORIAN
METHOD:PUBLISH
X-WR-CALNAME:Spółdzielnia Mieszkaniowa Osiedle Młodych
X-ORIGINAL-URL:https://osiedlemlodych.pl
X-WR-CALDESC:Wydarzenia dla Spółdzielnia Mieszkaniowa Osiedle Młodych
BEGIN:VTIMEZONE
TZID:Europe/Warsaw
BEGIN:DAYLIGHT
TZOFFSETFROM:+0100
TZOFFSETTO:+0200
TZNAME:CEST
DTSTART:20230326T010000
END:DAYLIGHT
BEGIN:STANDARD
TZOFFSETFROM:+0200
TZOFFSETTO:+0100
TZNAME:CET
DTSTART:20231029T010000
END:STANDARD
END:VTIMEZONE
BEGIN:VEVENT
DTSTART;TZID=Europe/Warsaw:20230522T163000
DTEND;TZID=Europe/Warsaw:20230522T190000
DTSTAMP:20260422T090413
CREATED:20230306T191021Z
LAST-MODIFIED:20230419T095716Z
UID:39219-1684773000-1684782000@osiedlemlodych.pl
SUMMARY:KLUB ODKRYWCÓW – warsztaty psychologiczne dla dzieci i młodzieży
DESCRIPTION:Cykl warsztatów dla dzieci i młodzieży\, podczas których mają szanse lepiej poznać siebie oraz nabyć nowe umiejętności. Chcemy przekazać wiedzę\, ale również praktyczne\, pomocne narzędzia do radzenia sobie na co dzień. Mamy nadzieję\, że wychodząc po warsztacie odczujecie na własnej skórze\, że jesteście bogatsi o nowe umiejętności. \nBędziemy trenować 4 kluczowe życiowe umiejętności: \n\nOdkrywca\, czyli zdolności eksplorowania zarówno otoczenia jak i samego siebie; to odkrywanie i budowanie nowych wzorców zachowania\, szukanie nowych rozwiązań\, nauka podejmowania ryzyka.\nNawigator\, czyli zdolności zauważania otaczającego świata i przede wszystkim zaglądania do swojego świata wewnętrznego; umiejętność słuchania swoich potrzeb\, zauważania myśli\, radzenia sobie z emocjami.\nAdministrator\, czyli zdolności korzystania ze swojego wewnętrznego systemu reguł i zasad; zaglądania do świata myśli\, poszukiwania ich funkcji.\nWartości\, czyli świadomość tego co nadaje życiu sens\, co jest najważniejsze; to umiejętność podejmowania świadomych decyzji zgodnych ze sobą.\n\nTrening tych umiejętności pomaga między innymi poznać lepiej siebie\, budować repertuar zachować\, określić swoje wartości\, zwiększyć odwagę w podążaniu za tym co ważne. Psycholożki prowadzące warsztaty nadają ramy projektowi\, natomiast chcą dać uczestnikom przestrzeń do tego by sami mogli projektować i realizować działania\, aktywności\, kampanie i materiały pomocowe dla ich kolegów i koleżanek z innych środowisk (szkoła\, rodzeństwo\, rodzina). Zatem naszym celem jest wspieranie uczestników i inspirowanie ich do przenoszenia zdobytych umiejętności w celu pomocy innym ludziom. \nW projekcie stawiamy na formy artystyczne i plastyczne takie jak: drama\, tworzenie plakatów\, ulotek\, nagrywanie i montowanie filmików do kampanii społecznych. \n  \nDo udziału w warsztatach zapraszamy dzieci i młodzież w wieku 9-15 lat: \n*  godz. 16:30 – 17:30 (9-12 lat)\n \n*  godz. 18:00 – 19:00 (13-15 lat)) \n  \nSpotkania poprowadzą psycholożki: Nicola Wrębiak oraz Wiktoria Zielińska. \n  \nTerminy kolejnych warsztatów: 12.06\, 19.06 \n  \n\nRezerwacji miejsc można dokonać telefonicznie (tel. 61 877 78 42) lub mailowo (dkorlegniazdo@gmail.com). \n  \nOrganizatorami warsztatów są Ratajskie Centrum Kultury oraz Dom Kultury „Orle Gniazdo”. Sfinansowano z środków budżetowych Miasta Poznania #poznanwspiera
URL:https://osiedlemlodych.pl/wydarzenia/klub-odkrywcow-warsztaty-psychologiczne-dla-dzieci-i-mlodziezy-2/
LOCATION:Dom Kultury „Orle Gniazdo”\, os. Lecha 43\, Poznań\, Wielkopolskie\, 61-294\, Polska
CATEGORIES:Orle Gniazdo
ATTACH;FMTTYPE=image/jpeg:https://osiedlemlodych.pl/wp-content/uploads/2023/03/grupa-dzieci-bawiace-sie-w-parku-1301-6890.jpg
END:VEVENT
END:VCALENDAR