BEGIN:VCALENDAR
VERSION:2.0
PRODID:-//Spółdzielnia Mieszkaniowa Osiedle Młodych - ECPv5.16.4//NONSGML v1.0//EN
CALSCALE:GREGORIAN
METHOD:PUBLISH
X-WR-CALNAME:Spółdzielnia Mieszkaniowa Osiedle Młodych
X-ORIGINAL-URL:https://osiedlemlodych.pl
X-WR-CALDESC:Wydarzenia dla Spółdzielnia Mieszkaniowa Osiedle Młodych
BEGIN:VTIMEZONE
TZID:Europe/Warsaw
BEGIN:DAYLIGHT
TZOFFSETFROM:+0100
TZOFFSETTO:+0200
TZNAME:CEST
DTSTART:20260329T010000
END:DAYLIGHT
BEGIN:STANDARD
TZOFFSETFROM:+0200
TZOFFSETTO:+0100
TZNAME:CET
DTSTART:20261025T010000
END:STANDARD
END:VTIMEZONE
BEGIN:VEVENT
DTSTART;TZID=Europe/Warsaw:20260324T090000
DTEND;TZID=Europe/Warsaw:20260324T090000
DTSTAMP:20260422T055302
CREATED:20260305T154208Z
LAST-MODIFIED:20260305T154208Z
UID:55335-1774342800-1774342800@osiedlemlodych.pl
SUMMARY:Ko\, ko\, ko – kolorowe kury – warsztaty krawieckie dla seniorów
DESCRIPTION:Zapraszamy seniorów na warsztaty krawieckie\, podczas których stworzymy materiałowe wielkanocne kury – piękną\, ręcznie wykonaną dekorację na święta. To doskonała okazja do twórczego spędzenia czasu w miłej atmosferze. \nZapewniamy wszystkie materiały. Doświadczenie w szyciu nie jest potrzebne. Zapraszamy! \nWarsztaty są bezpłatne.  \nZapisy: w DK „Polan STO”\, od pn. do pt. w godz. 16:00–20:00 lub polansto@osiedlemlodych.pl \nWydarzenie realizowane w ramach projektu „Ratajski Przystanek Seniora”\, dofinansowanego z budżetu Miasta Poznania.
URL:https://osiedlemlodych.pl/wydarzenia/ko-ko-ko-kolorowe-kury-warsztaty-krawieckie-dla-seniorow-2/
LOCATION:DK „Polan Sto”
CATEGORIES:Polan Sto
ATTACH;FMTTYPE=image/png:https://osiedlemlodych.pl/wp-content/uploads/2026/03/darmowe-fotki11.png
END:VEVENT
END:VCALENDAR