BEGIN:VCALENDAR
VERSION:2.0
PRODID:-//Spółdzielnia Mieszkaniowa Osiedle Młodych - ECPv5.16.4//NONSGML v1.0//EN
CALSCALE:GREGORIAN
METHOD:PUBLISH
X-WR-CALNAME:Spółdzielnia Mieszkaniowa Osiedle Młodych
X-ORIGINAL-URL:https://osiedlemlodych.pl
X-WR-CALDESC:Wydarzenia dla Spółdzielnia Mieszkaniowa Osiedle Młodych
BEGIN:VTIMEZONE
TZID:Europe/Warsaw
BEGIN:DAYLIGHT
TZOFFSETFROM:+0100
TZOFFSETTO:+0200
TZNAME:CEST
DTSTART:20240331T010000
END:DAYLIGHT
BEGIN:STANDARD
TZOFFSETFROM:+0200
TZOFFSETTO:+0100
TZNAME:CET
DTSTART:20241027T010000
END:STANDARD
END:VTIMEZONE
BEGIN:VEVENT
DTSTART;TZID=Europe/Warsaw:20240302T170000
DTEND;TZID=Europe/Warsaw:20240302T183000
DTSTAMP:20260421T192618
CREATED:20240208T191344Z
LAST-MODIFIED:20240301T101933Z
UID:45051-1709398800-1709404200@osiedlemlodych.pl
SUMMARY:Koncert i muzyczne disco lat 80.
DESCRIPTION:Zapraszamy na koncert połączony z dyskoteką\, w trakcie którego na scenie wystąpią uzdolnieni uczniowie Ani Polowczyk.\n W programie znajdą się utwory takich wykonawców jak: Michał Szczygieł\, Sarsa\, Sanah\, Viki Gabor\, Genzie\, Cleo i innych.\n\n\nZachęcamy do przebrania się w stroje z lat 80-tych.\n\n\nRezerwacji można dokonać telefonicznie (tel. 61 877 78 42) lub mailowo (dkorlegniazdo@gmail.com).\nPo odbiór biletów zapraszamy do DK „Orle Gniazdo” od poniedziałku do piątku w godzinach 10:00-20:00.
URL:https://osiedlemlodych.pl/wydarzenia/koncert-i-muzyczne-disco-lat-80/
LOCATION:Dom Kultury „Orle Gniazdo”\, os. Lecha 43\, Poznań\, Wielkopolskie\, 61-294\, Polska
CATEGORIES:Orle Gniazdo
ATTACH;FMTTYPE=image/png:https://osiedlemlodych.pl/wp-content/uploads/2024/02/disco.png
END:VEVENT
END:VCALENDAR