BEGIN:VCALENDAR
VERSION:2.0
PRODID:-//Spółdzielnia Mieszkaniowa Osiedle Młodych - ECPv5.16.4//NONSGML v1.0//EN
CALSCALE:GREGORIAN
METHOD:PUBLISH
X-WR-CALNAME:Spółdzielnia Mieszkaniowa Osiedle Młodych
X-ORIGINAL-URL:https://osiedlemlodych.pl
X-WR-CALDESC:Wydarzenia dla Spółdzielnia Mieszkaniowa Osiedle Młodych
BEGIN:VTIMEZONE
TZID:Europe/Warsaw
BEGIN:DAYLIGHT
TZOFFSETFROM:+0100
TZOFFSETTO:+0200
TZNAME:CEST
DTSTART:20250330T010000
END:DAYLIGHT
BEGIN:STANDARD
TZOFFSETFROM:+0200
TZOFFSETTO:+0100
TZNAME:CET
DTSTART:20251026T010000
END:STANDARD
END:VTIMEZONE
BEGIN:VEVENT
DTSTART;TZID=Europe/Warsaw:20251206T180000
DTEND;TZID=Europe/Warsaw:20251206T180000
DTSTAMP:20260421T224050
CREATED:20251119T182155Z
LAST-MODIFIED:20251122T125246Z
UID:53880-1765044000-1765044000@osiedlemlodych.pl
SUMMARY:Koncert Mikołajkowy Teatru SpectART
DESCRIPTION:Zapraszamy wszystkie rodziny na wyjątkowe\, pełne świątecznego czaru widowisko muzyczne!  \nJuż wkrótce nasza scena zamieni się w zimową krainę dźwięków\, \na na najmłodszych widzów będzie czekała specjalna niespodzianka. \nNiech ten wyjątkowy koncert stanie się początkiem najpiękniejszego czasu w roku.
URL:https://osiedlemlodych.pl/wydarzenia/koncert-mikolajkowy-teatru-spectart/
LOCATION:Dom Kultury „Na Skarpie”\, os. Piastowskie 104\, Poznań\, województwo wielkopolskie\, 61-164\, Polska
CATEGORIES:Na Skarpie
ATTACH;FMTTYPE=image/jpeg:https://osiedlemlodych.pl/wp-content/uploads/2025/11/mikolajki.jpg
END:VEVENT
END:VCALENDAR